BEGIN:VCALENDAR
VERSION:2.0
PRODID:-//Muncy First United Methodist - ECPv6.11.2//NONSGML v1.0//EN
CALSCALE:GREGORIAN
METHOD:PUBLISH
X-WR-CALNAME:Muncy First United Methodist
X-ORIGINAL-URL:https://firstumcmuncy.org
X-WR-CALDESC:Events for Muncy First United Methodist
REFRESH-INTERVAL;VALUE=DURATION:PT1H
X-Robots-Tag:noindex
X-PUBLISHED-TTL:PT1H
BEGIN:VTIMEZONE
TZID:America/New_York
BEGIN:DAYLIGHT
TZOFFSETFROM:-0500
TZOFFSETTO:-0400
TZNAME:EDT
DTSTART:20260308T070000
END:DAYLIGHT
BEGIN:STANDARD
TZOFFSETFROM:-0400
TZOFFSETTO:-0500
TZNAME:EST
DTSTART:20261101T060000
END:STANDARD
END:VTIMEZONE
BEGIN:VEVENT
DTSTART;TZID=America/New_York:20260422T183000
DTEND;TZID=America/New_York:20260422T200000
DTSTAMP:20260422T100442
CREATED:20250320T115507Z
LAST-MODIFIED:20260420T234918Z
UID:10021663-1776882600-1776888000@firstumcmuncy.org
SUMMARY:Godsquad (Youth group in the youth room)
DESCRIPTION:
URL:https://firstumcmuncy.org/event/godsquad-youth-group-in-the-youth-room-5/2026-04-22/
END:VEVENT
BEGIN:VEVENT
DTSTART;TZID=America/New_York:20260429T183000
DTEND;TZID=America/New_York:20260429T200000
DTSTAMP:20260422T100442
CREATED:20250320T115507Z
LAST-MODIFIED:20260420T234918Z
UID:10021664-1777487400-1777492800@firstumcmuncy.org
SUMMARY:Godsquad (Youth group in the youth room)
DESCRIPTION:
URL:https://firstumcmuncy.org/event/godsquad-youth-group-in-the-youth-room-5/2026-04-29/
END:VEVENT
BEGIN:VEVENT
DTSTART;TZID=America/New_York:20260506T183000
DTEND;TZID=America/New_York:20260506T200000
DTSTAMP:20260422T100442
CREATED:20250320T115507Z
LAST-MODIFIED:20260420T234918Z
UID:10021665-1778092200-1778097600@firstumcmuncy.org
SUMMARY:Godsquad (Youth group in the youth room)
DESCRIPTION:
URL:https://firstumcmuncy.org/event/godsquad-youth-group-in-the-youth-room-5/2026-05-06/
END:VEVENT
BEGIN:VEVENT
DTSTART;TZID=America/New_York:20260513T183000
DTEND;TZID=America/New_York:20260513T200000
DTSTAMP:20260422T100442
CREATED:20250320T115507Z
LAST-MODIFIED:20260420T234918Z
UID:10021666-1778697000-1778702400@firstumcmuncy.org
SUMMARY:Godsquad (Youth group in the youth room)
DESCRIPTION:
URL:https://firstumcmuncy.org/event/godsquad-youth-group-in-the-youth-room-5/2026-05-13/
END:VEVENT
BEGIN:VEVENT
DTSTART;TZID=America/New_York:20260527T183000
DTEND;TZID=America/New_York:20260527T200000
DTSTAMP:20260422T100442
CREATED:20250320T115507Z
LAST-MODIFIED:20260420T234918Z
UID:10021668-1779906600-1779912000@firstumcmuncy.org
SUMMARY:Godsquad (Youth group in the youth room)
DESCRIPTION:
URL:https://firstumcmuncy.org/event/godsquad-youth-group-in-the-youth-room-5/2026-05-27/
END:VEVENT
BEGIN:VEVENT
DTSTART;TZID=America/New_York:20260603T183000
DTEND;TZID=America/New_York:20260603T200000
DTSTAMP:20260422T100442
CREATED:20250320T115507Z
LAST-MODIFIED:20260420T234918Z
UID:10021669-1780511400-1780516800@firstumcmuncy.org
SUMMARY:Godsquad (Youth group in the youth room)
DESCRIPTION:
URL:https://firstumcmuncy.org/event/godsquad-youth-group-in-the-youth-room-5/2026-06-03/
END:VEVENT
BEGIN:VEVENT
DTSTART;TZID=America/New_York:20260701T183000
DTEND;TZID=America/New_York:20260701T200000
DTSTAMP:20260422T100442
CREATED:20250320T115507Z
LAST-MODIFIED:20260420T234918Z
UID:10021673-1782930600-1782936000@firstumcmuncy.org
SUMMARY:Godsquad (Youth group in the youth room)
DESCRIPTION:
URL:https://firstumcmuncy.org/event/godsquad-youth-group-in-the-youth-room-5/2026-07-01/
END:VEVENT
BEGIN:VEVENT
DTSTART;TZID=America/New_York:20260708T183000
DTEND;TZID=America/New_York:20260708T200000
DTSTAMP:20260422T100442
CREATED:20250320T115507Z
LAST-MODIFIED:20260420T234918Z
UID:10021674-1783535400-1783540800@firstumcmuncy.org
SUMMARY:Godsquad (Youth group in the youth room)
DESCRIPTION:
URL:https://firstumcmuncy.org/event/godsquad-youth-group-in-the-youth-room-5/2026-07-08/
END:VEVENT
BEGIN:VEVENT
DTSTART;TZID=America/New_York:20260715T183000
DTEND;TZID=America/New_York:20260715T200000
DTSTAMP:20260422T100442
CREATED:20250320T115507Z
LAST-MODIFIED:20260420T234918Z
UID:10021675-1784140200-1784145600@firstumcmuncy.org
SUMMARY:Godsquad (Youth group in the youth room)
DESCRIPTION:
URL:https://firstumcmuncy.org/event/godsquad-youth-group-in-the-youth-room-5/2026-07-15/
END:VEVENT
BEGIN:VEVENT
DTSTART;TZID=America/New_York:20260722T183000
DTEND;TZID=America/New_York:20260722T200000
DTSTAMP:20260422T100442
CREATED:20250320T115507Z
LAST-MODIFIED:20260420T234918Z
UID:10021676-1784745000-1784750400@firstumcmuncy.org
SUMMARY:Godsquad (Youth group in the youth room)
DESCRIPTION:
URL:https://firstumcmuncy.org/event/godsquad-youth-group-in-the-youth-room-5/2026-07-22/
END:VEVENT
BEGIN:VEVENT
DTSTART;TZID=America/New_York:20260729T183000
DTEND;TZID=America/New_York:20260729T200000
DTSTAMP:20260422T100442
CREATED:20250320T115507Z
LAST-MODIFIED:20260420T234918Z
UID:10021677-1785349800-1785355200@firstumcmuncy.org
SUMMARY:Godsquad (Youth group in the youth room)
DESCRIPTION:
URL:https://firstumcmuncy.org/event/godsquad-youth-group-in-the-youth-room-5/2026-07-29/
END:VEVENT
BEGIN:VEVENT
DTSTART;TZID=America/New_York:20260805T183000
DTEND;TZID=America/New_York:20260805T200000
DTSTAMP:20260422T100442
CREATED:20250320T115507Z
LAST-MODIFIED:20260420T234918Z
UID:10021678-1785954600-1785960000@firstumcmuncy.org
SUMMARY:Godsquad (Youth group in the youth room)
DESCRIPTION:
URL:https://firstumcmuncy.org/event/godsquad-youth-group-in-the-youth-room-5/2026-08-05/
END:VEVENT
BEGIN:VEVENT
DTSTART;TZID=America/New_York:20260812T183000
DTEND;TZID=America/New_York:20260812T200000
DTSTAMP:20260422T100442
CREATED:20250320T115507Z
LAST-MODIFIED:20260420T234918Z
UID:10021679-1786559400-1786564800@firstumcmuncy.org
SUMMARY:Godsquad (Youth group in the youth room)
DESCRIPTION:
URL:https://firstumcmuncy.org/event/godsquad-youth-group-in-the-youth-room-5/2026-08-12/
END:VEVENT
BEGIN:VEVENT
DTSTART;TZID=America/New_York:20260819T183000
DTEND;TZID=America/New_York:20260819T200000
DTSTAMP:20260422T100442
CREATED:20250320T115507Z
LAST-MODIFIED:20260420T234918Z
UID:10021680-1787164200-1787169600@firstumcmuncy.org
SUMMARY:Godsquad (Youth group in the youth room)
DESCRIPTION:
URL:https://firstumcmuncy.org/event/godsquad-youth-group-in-the-youth-room-5/2026-08-19/
END:VEVENT
BEGIN:VEVENT
DTSTART;TZID=America/New_York:20260826T183000
DTEND;TZID=America/New_York:20260826T200000
DTSTAMP:20260422T100442
CREATED:20250320T115507Z
LAST-MODIFIED:20260420T234918Z
UID:10021681-1787769000-1787774400@firstumcmuncy.org
SUMMARY:Godsquad (Youth group in the youth room)
DESCRIPTION:
URL:https://firstumcmuncy.org/event/godsquad-youth-group-in-the-youth-room-5/2026-08-26/
END:VEVENT
BEGIN:VEVENT
DTSTART;TZID=America/New_York:20260902T183000
DTEND;TZID=America/New_York:20260902T200000
DTSTAMP:20260422T100442
CREATED:20250320T115507Z
LAST-MODIFIED:20260420T234918Z
UID:10021682-1788373800-1788379200@firstumcmuncy.org
SUMMARY:Godsquad (Youth group in the youth room)
DESCRIPTION:
URL:https://firstumcmuncy.org/event/godsquad-youth-group-in-the-youth-room-5/2026-09-02/
END:VEVENT
BEGIN:VEVENT
DTSTART;TZID=America/New_York:20260909T183000
DTEND;TZID=America/New_York:20260909T200000
DTSTAMP:20260422T100442
CREATED:20250320T115507Z
LAST-MODIFIED:20260420T234918Z
UID:10021683-1788978600-1788984000@firstumcmuncy.org
SUMMARY:Godsquad (Youth group in the youth room)
DESCRIPTION:
URL:https://firstumcmuncy.org/event/godsquad-youth-group-in-the-youth-room-5/2026-09-09/
END:VEVENT
BEGIN:VEVENT
DTSTART;TZID=America/New_York:20260916T183000
DTEND;TZID=America/New_York:20260916T200000
DTSTAMP:20260422T100442
CREATED:20250320T115507Z
LAST-MODIFIED:20260420T234918Z
UID:10021684-1789583400-1789588800@firstumcmuncy.org
SUMMARY:Godsquad (Youth group in the youth room)
DESCRIPTION:
URL:https://firstumcmuncy.org/event/godsquad-youth-group-in-the-youth-room-5/2026-09-16/
END:VEVENT
BEGIN:VEVENT
DTSTART;TZID=America/New_York:20260923T183000
DTEND;TZID=America/New_York:20260923T200000
DTSTAMP:20260422T100442
CREATED:20250320T115507Z
LAST-MODIFIED:20260420T234918Z
UID:10021685-1790188200-1790193600@firstumcmuncy.org
SUMMARY:Godsquad (Youth group in the youth room)
DESCRIPTION:
URL:https://firstumcmuncy.org/event/godsquad-youth-group-in-the-youth-room-5/2026-09-23/
END:VEVENT
BEGIN:VEVENT
DTSTART;TZID=America/New_York:20260930T183000
DTEND;TZID=America/New_York:20260930T200000
DTSTAMP:20260422T100442
CREATED:20250320T115507Z
LAST-MODIFIED:20260420T234918Z
UID:10021686-1790793000-1790798400@firstumcmuncy.org
SUMMARY:Godsquad (Youth group in the youth room)
DESCRIPTION:
URL:https://firstumcmuncy.org/event/godsquad-youth-group-in-the-youth-room-5/2026-09-30/
END:VEVENT
BEGIN:VEVENT
DTSTART;TZID=America/New_York:20261007T183000
DTEND;TZID=America/New_York:20261007T200000
DTSTAMP:20260422T100442
CREATED:20250320T115507Z
LAST-MODIFIED:20260420T234918Z
UID:10021687-1791397800-1791403200@firstumcmuncy.org
SUMMARY:Godsquad (Youth group in the youth room)
DESCRIPTION:
URL:https://firstumcmuncy.org/event/godsquad-youth-group-in-the-youth-room-5/2026-10-07/
END:VEVENT
BEGIN:VEVENT
DTSTART;TZID=America/New_York:20261014T183000
DTEND;TZID=America/New_York:20261014T200000
DTSTAMP:20260422T100442
CREATED:20250320T115507Z
LAST-MODIFIED:20260420T234918Z
UID:10021688-1792002600-1792008000@firstumcmuncy.org
SUMMARY:Godsquad (Youth group in the youth room)
DESCRIPTION:
URL:https://firstumcmuncy.org/event/godsquad-youth-group-in-the-youth-room-5/2026-10-14/
END:VEVENT
BEGIN:VEVENT
DTSTART;TZID=America/New_York:20261021T183000
DTEND;TZID=America/New_York:20261021T200000
DTSTAMP:20260422T100442
CREATED:20250320T115507Z
LAST-MODIFIED:20260420T234918Z
UID:10021689-1792607400-1792612800@firstumcmuncy.org
SUMMARY:Godsquad (Youth group in the youth room)
DESCRIPTION:
URL:https://firstumcmuncy.org/event/godsquad-youth-group-in-the-youth-room-5/2026-10-21/
END:VEVENT
BEGIN:VEVENT
DTSTART;TZID=America/New_York:20261028T183000
DTEND;TZID=America/New_York:20261028T200000
DTSTAMP:20260422T100442
CREATED:20250320T115507Z
LAST-MODIFIED:20260420T234918Z
UID:10021690-1793212200-1793217600@firstumcmuncy.org
SUMMARY:Godsquad (Youth group in the youth room)
DESCRIPTION:
URL:https://firstumcmuncy.org/event/godsquad-youth-group-in-the-youth-room-5/2026-10-28/
END:VEVENT
BEGIN:VEVENT
DTSTART;TZID=America/New_York:20261104T183000
DTEND;TZID=America/New_York:20261104T200000
DTSTAMP:20260422T100442
CREATED:20250320T115507Z
LAST-MODIFIED:20260420T234918Z
UID:10021691-1793817000-1793822400@firstumcmuncy.org
SUMMARY:Godsquad (Youth group in the youth room)
DESCRIPTION:
URL:https://firstumcmuncy.org/event/godsquad-youth-group-in-the-youth-room-5/2026-11-04/
END:VEVENT
BEGIN:VEVENT
DTSTART;TZID=America/New_York:20261111T183000
DTEND;TZID=America/New_York:20261111T200000
DTSTAMP:20260422T100442
CREATED:20250320T115507Z
LAST-MODIFIED:20260420T234918Z
UID:10021692-1794421800-1794427200@firstumcmuncy.org
SUMMARY:Godsquad (Youth group in the youth room)
DESCRIPTION:
URL:https://firstumcmuncy.org/event/godsquad-youth-group-in-the-youth-room-5/2026-11-11/
END:VEVENT
BEGIN:VEVENT
DTSTART;TZID=America/New_York:20261118T183000
DTEND;TZID=America/New_York:20261118T200000
DTSTAMP:20260422T100442
CREATED:20250320T115507Z
LAST-MODIFIED:20260420T234918Z
UID:10021693-1795026600-1795032000@firstumcmuncy.org
SUMMARY:Godsquad (Youth group in the youth room)
DESCRIPTION:
URL:https://firstumcmuncy.org/event/godsquad-youth-group-in-the-youth-room-5/2026-11-18/
END:VEVENT
BEGIN:VEVENT
DTSTART;TZID=America/New_York:20261125T183000
DTEND;TZID=America/New_York:20261125T200000
DTSTAMP:20260422T100442
CREATED:20250320T115507Z
LAST-MODIFIED:20260420T234918Z
UID:10021694-1795631400-1795636800@firstumcmuncy.org
SUMMARY:Godsquad (Youth group in the youth room)
DESCRIPTION:
URL:https://firstumcmuncy.org/event/godsquad-youth-group-in-the-youth-room-5/2026-11-25/
END:VEVENT
BEGIN:VEVENT
DTSTART;TZID=America/New_York:20261202T183000
DTEND;TZID=America/New_York:20261202T200000
DTSTAMP:20260422T100442
CREATED:20250320T115507Z
LAST-MODIFIED:20260420T234918Z
UID:10021695-1796236200-1796241600@firstumcmuncy.org
SUMMARY:Godsquad (Youth group in the youth room)
DESCRIPTION:
URL:https://firstumcmuncy.org/event/godsquad-youth-group-in-the-youth-room-5/2026-12-02/
END:VEVENT
BEGIN:VEVENT
DTSTART;TZID=America/New_York:20261209T183000
DTEND;TZID=America/New_York:20261209T200000
DTSTAMP:20260422T100442
CREATED:20250320T115507Z
LAST-MODIFIED:20260420T234918Z
UID:10021696-1796841000-1796846400@firstumcmuncy.org
SUMMARY:Godsquad (Youth group in the youth room)
DESCRIPTION:
URL:https://firstumcmuncy.org/event/godsquad-youth-group-in-the-youth-room-5/2026-12-09/
END:VEVENT
END:VCALENDAR