BEGIN:VCALENDAR
VERSION:2.0
PRODID:-//Muncy First United Methodist - ECPv6.11.2//NONSGML v1.0//EN
CALSCALE:GREGORIAN
METHOD:PUBLISH
X-WR-CALNAME:Muncy First United Methodist
X-ORIGINAL-URL:https://firstumcmuncy.org
X-WR-CALDESC:Events for Muncy First United Methodist
REFRESH-INTERVAL;VALUE=DURATION:PT1H
X-Robots-Tag:noindex
X-PUBLISHED-TTL:PT1H
BEGIN:VTIMEZONE
TZID:America/New_York
BEGIN:DAYLIGHT
TZOFFSETFROM:-0500
TZOFFSETTO:-0400
TZNAME:EDT
DTSTART:20280312T070000
END:DAYLIGHT
BEGIN:STANDARD
TZOFFSETFROM:-0400
TZOFFSETTO:-0500
TZNAME:EST
DTSTART:20281105T060000
END:STANDARD
END:VTIMEZONE
BEGIN:VEVENT
DTSTART;TZID=America/New_York:20280118T070000
DTEND;TZID=America/New_York:20280118T070000
DTSTAMP:20260421T225142
CREATED:20221201T155342Z
LAST-MODIFIED:20250731T140016Z
UID:10021601-1831791600-1831791600@firstumcmuncy.org
SUMMARY:Men’s Breakfast – Cracker Barrel
DESCRIPTION:
URL:https://firstumcmuncy.org/event/mens-breakfast-cracker-barrel-2024-01-02/2028-01-18/
END:VEVENT
BEGIN:VEVENT
DTSTART;TZID=America/New_York:20280125T070000
DTEND;TZID=America/New_York:20280125T070000
DTSTAMP:20260421T225142
CREATED:20221201T155342Z
LAST-MODIFIED:20250731T140016Z
UID:10021602-1832396400-1832396400@firstumcmuncy.org
SUMMARY:Men’s Breakfast – Cracker Barrel
DESCRIPTION:
URL:https://firstumcmuncy.org/event/mens-breakfast-cracker-barrel-2024-01-02/2028-01-25/
END:VEVENT
BEGIN:VEVENT
DTSTART;TZID=America/New_York:20280201T070000
DTEND;TZID=America/New_York:20280201T070000
DTSTAMP:20260421T225142
CREATED:20221201T155342Z
LAST-MODIFIED:20250731T140016Z
UID:10021603-1833001200-1833001200@firstumcmuncy.org
SUMMARY:Men’s Breakfast – Cracker Barrel
DESCRIPTION:
URL:https://firstumcmuncy.org/event/mens-breakfast-cracker-barrel-2024-01-02/2028-02-01/
END:VEVENT
BEGIN:VEVENT
DTSTART;TZID=America/New_York:20280208T070000
DTEND;TZID=America/New_York:20280208T070000
DTSTAMP:20260421T225142
CREATED:20221201T155342Z
LAST-MODIFIED:20250731T140016Z
UID:10021604-1833606000-1833606000@firstumcmuncy.org
SUMMARY:Men’s Breakfast – Cracker Barrel
DESCRIPTION:
URL:https://firstumcmuncy.org/event/mens-breakfast-cracker-barrel-2024-01-02/2028-02-08/
END:VEVENT
BEGIN:VEVENT
DTSTART;TZID=America/New_York:20280215T070000
DTEND;TZID=America/New_York:20280215T070000
DTSTAMP:20260421T225142
CREATED:20221201T155342Z
LAST-MODIFIED:20250731T140016Z
UID:10021605-1834210800-1834210800@firstumcmuncy.org
SUMMARY:Men’s Breakfast – Cracker Barrel
DESCRIPTION:
URL:https://firstumcmuncy.org/event/mens-breakfast-cracker-barrel-2024-01-02/2028-02-15/
END:VEVENT
BEGIN:VEVENT
DTSTART;TZID=America/New_York:20280222T070000
DTEND;TZID=America/New_York:20280222T070000
DTSTAMP:20260421T225142
CREATED:20221201T155342Z
LAST-MODIFIED:20250731T140016Z
UID:10021606-1834815600-1834815600@firstumcmuncy.org
SUMMARY:Men’s Breakfast – Cracker Barrel
DESCRIPTION:
URL:https://firstumcmuncy.org/event/mens-breakfast-cracker-barrel-2024-01-02/2028-02-22/
END:VEVENT
BEGIN:VEVENT
DTSTART;TZID=America/New_York:20280229T070000
DTEND;TZID=America/New_York:20280229T070000
DTSTAMP:20260421T225142
CREATED:20221201T155342Z
LAST-MODIFIED:20250731T140016Z
UID:10021607-1835420400-1835420400@firstumcmuncy.org
SUMMARY:Men’s Breakfast – Cracker Barrel
DESCRIPTION:
URL:https://firstumcmuncy.org/event/mens-breakfast-cracker-barrel-2024-01-02/2028-02-29/
END:VEVENT
BEGIN:VEVENT
DTSTART;TZID=America/New_York:20280307T070000
DTEND;TZID=America/New_York:20280307T070000
DTSTAMP:20260421T225142
CREATED:20221201T155342Z
LAST-MODIFIED:20250731T140016Z
UID:10021608-1836025200-1836025200@firstumcmuncy.org
SUMMARY:Men’s Breakfast – Cracker Barrel
DESCRIPTION:
URL:https://firstumcmuncy.org/event/mens-breakfast-cracker-barrel-2024-01-02/2028-03-07/
END:VEVENT
BEGIN:VEVENT
DTSTART;TZID=America/New_York:20280314T070000
DTEND;TZID=America/New_York:20280314T070000
DTSTAMP:20260421T225142
CREATED:20221201T155342Z
LAST-MODIFIED:20250731T140016Z
UID:10021609-1836630000-1836630000@firstumcmuncy.org
SUMMARY:Men’s Breakfast – Cracker Barrel
DESCRIPTION:
URL:https://firstumcmuncy.org/event/mens-breakfast-cracker-barrel-2024-01-02/2028-03-14/
END:VEVENT
BEGIN:VEVENT
DTSTART;TZID=America/New_York:20280321T070000
DTEND;TZID=America/New_York:20280321T070000
DTSTAMP:20260421T225142
CREATED:20221201T155342Z
LAST-MODIFIED:20250731T140016Z
UID:10021610-1837234800-1837234800@firstumcmuncy.org
SUMMARY:Men’s Breakfast – Cracker Barrel
DESCRIPTION:
URL:https://firstumcmuncy.org/event/mens-breakfast-cracker-barrel-2024-01-02/2028-03-21/
END:VEVENT
BEGIN:VEVENT
DTSTART;TZID=America/New_York:20280328T070000
DTEND;TZID=America/New_York:20280328T070000
DTSTAMP:20260421T225142
CREATED:20221201T155342Z
LAST-MODIFIED:20250731T140016Z
UID:10021611-1837839600-1837839600@firstumcmuncy.org
SUMMARY:Men’s Breakfast – Cracker Barrel
DESCRIPTION:
URL:https://firstumcmuncy.org/event/mens-breakfast-cracker-barrel-2024-01-02/2028-03-28/
END:VEVENT
BEGIN:VEVENT
DTSTART;TZID=America/New_York:20280404T070000
DTEND;TZID=America/New_York:20280404T070000
DTSTAMP:20260421T225142
CREATED:20221201T155342Z
LAST-MODIFIED:20250731T140016Z
UID:10021612-1838444400-1838444400@firstumcmuncy.org
SUMMARY:Men’s Breakfast – Cracker Barrel
DESCRIPTION:
URL:https://firstumcmuncy.org/event/mens-breakfast-cracker-barrel-2024-01-02/2028-04-04/
END:VEVENT
BEGIN:VEVENT
DTSTART;TZID=America/New_York:20280411T070000
DTEND;TZID=America/New_York:20280411T070000
DTSTAMP:20260421T225142
CREATED:20221201T155342Z
LAST-MODIFIED:20250731T140016Z
UID:10021613-1839049200-1839049200@firstumcmuncy.org
SUMMARY:Men’s Breakfast – Cracker Barrel
DESCRIPTION:
URL:https://firstumcmuncy.org/event/mens-breakfast-cracker-barrel-2024-01-02/2028-04-11/
END:VEVENT
BEGIN:VEVENT
DTSTART;TZID=America/New_York:20280418T070000
DTEND;TZID=America/New_York:20280418T070000
DTSTAMP:20260421T225142
CREATED:20221201T155342Z
LAST-MODIFIED:20250731T140016Z
UID:10021614-1839654000-1839654000@firstumcmuncy.org
SUMMARY:Men’s Breakfast – Cracker Barrel
DESCRIPTION:
URL:https://firstumcmuncy.org/event/mens-breakfast-cracker-barrel-2024-01-02/2028-04-18/
END:VEVENT
BEGIN:VEVENT
DTSTART;TZID=America/New_York:20280425T070000
DTEND;TZID=America/New_York:20280425T070000
DTSTAMP:20260421T225142
CREATED:20221201T155342Z
LAST-MODIFIED:20250731T140016Z
UID:10021615-1840258800-1840258800@firstumcmuncy.org
SUMMARY:Men’s Breakfast – Cracker Barrel
DESCRIPTION:
URL:https://firstumcmuncy.org/event/mens-breakfast-cracker-barrel-2024-01-02/2028-04-25/
END:VEVENT
BEGIN:VEVENT
DTSTART;TZID=America/New_York:20280502T070000
DTEND;TZID=America/New_York:20280502T070000
DTSTAMP:20260421T225142
CREATED:20221201T155342Z
LAST-MODIFIED:20250731T140016Z
UID:10021616-1840863600-1840863600@firstumcmuncy.org
SUMMARY:Men’s Breakfast – Cracker Barrel
DESCRIPTION:
URL:https://firstumcmuncy.org/event/mens-breakfast-cracker-barrel-2024-01-02/2028-05-02/
END:VEVENT
BEGIN:VEVENT
DTSTART;TZID=America/New_York:20280509T070000
DTEND;TZID=America/New_York:20280509T070000
DTSTAMP:20260421T225142
CREATED:20221201T155342Z
LAST-MODIFIED:20250731T140016Z
UID:10021617-1841468400-1841468400@firstumcmuncy.org
SUMMARY:Men’s Breakfast – Cracker Barrel
DESCRIPTION:
URL:https://firstumcmuncy.org/event/mens-breakfast-cracker-barrel-2024-01-02/2028-05-09/
END:VEVENT
BEGIN:VEVENT
DTSTART;TZID=America/New_York:20280516T070000
DTEND;TZID=America/New_York:20280516T070000
DTSTAMP:20260421T225142
CREATED:20221201T155342Z
LAST-MODIFIED:20250731T140016Z
UID:10021618-1842073200-1842073200@firstumcmuncy.org
SUMMARY:Men’s Breakfast – Cracker Barrel
DESCRIPTION:
URL:https://firstumcmuncy.org/event/mens-breakfast-cracker-barrel-2024-01-02/2028-05-16/
END:VEVENT
BEGIN:VEVENT
DTSTART;TZID=America/New_York:20280523T070000
DTEND;TZID=America/New_York:20280523T070000
DTSTAMP:20260421T225142
CREATED:20221201T155342Z
LAST-MODIFIED:20250731T140016Z
UID:10021619-1842678000-1842678000@firstumcmuncy.org
SUMMARY:Men’s Breakfast – Cracker Barrel
DESCRIPTION:
URL:https://firstumcmuncy.org/event/mens-breakfast-cracker-barrel-2024-01-02/2028-05-23/
END:VEVENT
BEGIN:VEVENT
DTSTART;TZID=America/New_York:20280530T070000
DTEND;TZID=America/New_York:20280530T070000
DTSTAMP:20260421T225142
CREATED:20221201T155342Z
LAST-MODIFIED:20250731T140016Z
UID:10021620-1843282800-1843282800@firstumcmuncy.org
SUMMARY:Men’s Breakfast – Cracker Barrel
DESCRIPTION:
URL:https://firstumcmuncy.org/event/mens-breakfast-cracker-barrel-2024-01-02/2028-05-30/
END:VEVENT
BEGIN:VEVENT
DTSTART;TZID=America/New_York:20280606T070000
DTEND;TZID=America/New_York:20280606T070000
DTSTAMP:20260421T225142
CREATED:20221201T155342Z
LAST-MODIFIED:20250731T140016Z
UID:10021621-1843887600-1843887600@firstumcmuncy.org
SUMMARY:Men’s Breakfast – Cracker Barrel
DESCRIPTION:
URL:https://firstumcmuncy.org/event/mens-breakfast-cracker-barrel-2024-01-02/2028-06-06/
END:VEVENT
BEGIN:VEVENT
DTSTART;TZID=America/New_York:20280613T070000
DTEND;TZID=America/New_York:20280613T070000
DTSTAMP:20260421T225142
CREATED:20221201T155342Z
LAST-MODIFIED:20250731T140016Z
UID:10021622-1844492400-1844492400@firstumcmuncy.org
SUMMARY:Men’s Breakfast – Cracker Barrel
DESCRIPTION:
URL:https://firstumcmuncy.org/event/mens-breakfast-cracker-barrel-2024-01-02/2028-06-13/
END:VEVENT
BEGIN:VEVENT
DTSTART;TZID=America/New_York:20280620T070000
DTEND;TZID=America/New_York:20280620T070000
DTSTAMP:20260421T225142
CREATED:20221201T155342Z
LAST-MODIFIED:20250731T140016Z
UID:10021623-1845097200-1845097200@firstumcmuncy.org
SUMMARY:Men’s Breakfast – Cracker Barrel
DESCRIPTION:
URL:https://firstumcmuncy.org/event/mens-breakfast-cracker-barrel-2024-01-02/2028-06-20/
END:VEVENT
BEGIN:VEVENT
DTSTART;TZID=America/New_York:20280627T070000
DTEND;TZID=America/New_York:20280627T070000
DTSTAMP:20260421T225142
CREATED:20221201T155342Z
LAST-MODIFIED:20250731T140016Z
UID:10021624-1845702000-1845702000@firstumcmuncy.org
SUMMARY:Men’s Breakfast – Cracker Barrel
DESCRIPTION:
URL:https://firstumcmuncy.org/event/mens-breakfast-cracker-barrel-2024-01-02/2028-06-27/
END:VEVENT
BEGIN:VEVENT
DTSTART;TZID=America/New_York:20280704T070000
DTEND;TZID=America/New_York:20280704T070000
DTSTAMP:20260421T225142
CREATED:20221201T155342Z
LAST-MODIFIED:20250731T140016Z
UID:10021625-1846306800-1846306800@firstumcmuncy.org
SUMMARY:Men’s Breakfast – Cracker Barrel
DESCRIPTION:
URL:https://firstumcmuncy.org/event/mens-breakfast-cracker-barrel-2024-01-02/2028-07-04/
END:VEVENT
BEGIN:VEVENT
DTSTART;TZID=America/New_York:20280711T070000
DTEND;TZID=America/New_York:20280711T070000
DTSTAMP:20260421T225142
CREATED:20221201T155342Z
LAST-MODIFIED:20250731T140016Z
UID:10021626-1846911600-1846911600@firstumcmuncy.org
SUMMARY:Men’s Breakfast – Cracker Barrel
DESCRIPTION:
URL:https://firstumcmuncy.org/event/mens-breakfast-cracker-barrel-2024-01-02/2028-07-11/
END:VEVENT
BEGIN:VEVENT
DTSTART;TZID=America/New_York:20280718T070000
DTEND;TZID=America/New_York:20280718T070000
DTSTAMP:20260421T225142
CREATED:20221201T155342Z
LAST-MODIFIED:20250731T140016Z
UID:10021627-1847516400-1847516400@firstumcmuncy.org
SUMMARY:Men’s Breakfast – Cracker Barrel
DESCRIPTION:
URL:https://firstumcmuncy.org/event/mens-breakfast-cracker-barrel-2024-01-02/2028-07-18/
END:VEVENT
BEGIN:VEVENT
DTSTART;TZID=America/New_York:20280725T070000
DTEND;TZID=America/New_York:20280725T070000
DTSTAMP:20260421T225142
CREATED:20221201T155342Z
LAST-MODIFIED:20250731T140016Z
UID:10021628-1848121200-1848121200@firstumcmuncy.org
SUMMARY:Men’s Breakfast – Cracker Barrel
DESCRIPTION:
URL:https://firstumcmuncy.org/event/mens-breakfast-cracker-barrel-2024-01-02/2028-07-25/
END:VEVENT
BEGIN:VEVENT
DTSTART;TZID=America/New_York:20280801T070000
DTEND;TZID=America/New_York:20280801T070000
DTSTAMP:20260421T225142
CREATED:20221201T155342Z
LAST-MODIFIED:20250731T140016Z
UID:10021629-1848726000-1848726000@firstumcmuncy.org
SUMMARY:Men’s Breakfast – Cracker Barrel
DESCRIPTION:
URL:https://firstumcmuncy.org/event/mens-breakfast-cracker-barrel-2024-01-02/2028-08-01/
END:VEVENT
BEGIN:VEVENT
DTSTART;TZID=America/New_York:20280808T070000
DTEND;TZID=America/New_York:20280808T070000
DTSTAMP:20260421T225142
CREATED:20221201T155342Z
LAST-MODIFIED:20250731T140016Z
UID:10021630-1849330800-1849330800@firstumcmuncy.org
SUMMARY:Men’s Breakfast – Cracker Barrel
DESCRIPTION:
URL:https://firstumcmuncy.org/event/mens-breakfast-cracker-barrel-2024-01-02/2028-08-08/
END:VEVENT
END:VCALENDAR