BEGIN:VCALENDAR
VERSION:2.0
PRODID:-//Muncy First United Methodist - ECPv6.11.2//NONSGML v1.0//EN
CALSCALE:GREGORIAN
METHOD:PUBLISH
X-WR-CALNAME:Muncy First United Methodist
X-ORIGINAL-URL:https://firstumcmuncy.org
X-WR-CALDESC:Events for Muncy First United Methodist
REFRESH-INTERVAL;VALUE=DURATION:PT1H
X-Robots-Tag:noindex
X-PUBLISHED-TTL:PT1H
BEGIN:VTIMEZONE
TZID:America/New_York
BEGIN:DAYLIGHT
TZOFFSETFROM:-0500
TZOFFSETTO:-0400
TZNAME:EDT
DTSTART:20280312T070000
END:DAYLIGHT
BEGIN:STANDARD
TZOFFSETFROM:-0400
TZOFFSETTO:-0500
TZNAME:EST
DTSTART:20281105T060000
END:STANDARD
END:VTIMEZONE
BEGIN:VEVENT
DTSTART;TZID=America/New_York:20280606T070000
DTEND;TZID=America/New_York:20280606T070000
DTSTAMP:20260422T021806
CREATED:20221201T155342Z
LAST-MODIFIED:20250731T140016Z
UID:10021621-1843887600-1843887600@firstumcmuncy.org
SUMMARY:Men’s Breakfast – Cracker Barrel
DESCRIPTION:
URL:https://firstumcmuncy.org/event/mens-breakfast-cracker-barrel-2024-01-02/2028-06-06/
END:VEVENT
BEGIN:VEVENT
DTSTART;TZID=America/New_York:20280613T070000
DTEND;TZID=America/New_York:20280613T070000
DTSTAMP:20260422T021806
CREATED:20221201T155342Z
LAST-MODIFIED:20250731T140016Z
UID:10021622-1844492400-1844492400@firstumcmuncy.org
SUMMARY:Men’s Breakfast – Cracker Barrel
DESCRIPTION:
URL:https://firstumcmuncy.org/event/mens-breakfast-cracker-barrel-2024-01-02/2028-06-13/
END:VEVENT
BEGIN:VEVENT
DTSTART;TZID=America/New_York:20280620T070000
DTEND;TZID=America/New_York:20280620T070000
DTSTAMP:20260422T021806
CREATED:20221201T155342Z
LAST-MODIFIED:20250731T140016Z
UID:10021623-1845097200-1845097200@firstumcmuncy.org
SUMMARY:Men’s Breakfast – Cracker Barrel
DESCRIPTION:
URL:https://firstumcmuncy.org/event/mens-breakfast-cracker-barrel-2024-01-02/2028-06-20/
END:VEVENT
BEGIN:VEVENT
DTSTART;TZID=America/New_York:20280627T070000
DTEND;TZID=America/New_York:20280627T070000
DTSTAMP:20260422T021806
CREATED:20221201T155342Z
LAST-MODIFIED:20250731T140016Z
UID:10021624-1845702000-1845702000@firstumcmuncy.org
SUMMARY:Men’s Breakfast – Cracker Barrel
DESCRIPTION:
URL:https://firstumcmuncy.org/event/mens-breakfast-cracker-barrel-2024-01-02/2028-06-27/
END:VEVENT
BEGIN:VEVENT
DTSTART;TZID=America/New_York:20280704T070000
DTEND;TZID=America/New_York:20280704T070000
DTSTAMP:20260422T021806
CREATED:20221201T155342Z
LAST-MODIFIED:20250731T140016Z
UID:10021625-1846306800-1846306800@firstumcmuncy.org
SUMMARY:Men’s Breakfast – Cracker Barrel
DESCRIPTION:
URL:https://firstumcmuncy.org/event/mens-breakfast-cracker-barrel-2024-01-02/2028-07-04/
END:VEVENT
BEGIN:VEVENT
DTSTART;TZID=America/New_York:20280711T070000
DTEND;TZID=America/New_York:20280711T070000
DTSTAMP:20260422T021806
CREATED:20221201T155342Z
LAST-MODIFIED:20250731T140016Z
UID:10021626-1846911600-1846911600@firstumcmuncy.org
SUMMARY:Men’s Breakfast – Cracker Barrel
DESCRIPTION:
URL:https://firstumcmuncy.org/event/mens-breakfast-cracker-barrel-2024-01-02/2028-07-11/
END:VEVENT
BEGIN:VEVENT
DTSTART;TZID=America/New_York:20280718T070000
DTEND;TZID=America/New_York:20280718T070000
DTSTAMP:20260422T021806
CREATED:20221201T155342Z
LAST-MODIFIED:20250731T140016Z
UID:10021627-1847516400-1847516400@firstumcmuncy.org
SUMMARY:Men’s Breakfast – Cracker Barrel
DESCRIPTION:
URL:https://firstumcmuncy.org/event/mens-breakfast-cracker-barrel-2024-01-02/2028-07-18/
END:VEVENT
BEGIN:VEVENT
DTSTART;TZID=America/New_York:20280725T070000
DTEND;TZID=America/New_York:20280725T070000
DTSTAMP:20260422T021806
CREATED:20221201T155342Z
LAST-MODIFIED:20250731T140016Z
UID:10021628-1848121200-1848121200@firstumcmuncy.org
SUMMARY:Men’s Breakfast – Cracker Barrel
DESCRIPTION:
URL:https://firstumcmuncy.org/event/mens-breakfast-cracker-barrel-2024-01-02/2028-07-25/
END:VEVENT
BEGIN:VEVENT
DTSTART;TZID=America/New_York:20280801T070000
DTEND;TZID=America/New_York:20280801T070000
DTSTAMP:20260422T021806
CREATED:20221201T155342Z
LAST-MODIFIED:20250731T140016Z
UID:10021629-1848726000-1848726000@firstumcmuncy.org
SUMMARY:Men’s Breakfast – Cracker Barrel
DESCRIPTION:
URL:https://firstumcmuncy.org/event/mens-breakfast-cracker-barrel-2024-01-02/2028-08-01/
END:VEVENT
BEGIN:VEVENT
DTSTART;TZID=America/New_York:20280808T070000
DTEND;TZID=America/New_York:20280808T070000
DTSTAMP:20260422T021806
CREATED:20221201T155342Z
LAST-MODIFIED:20250731T140016Z
UID:10021630-1849330800-1849330800@firstumcmuncy.org
SUMMARY:Men’s Breakfast – Cracker Barrel
DESCRIPTION:
URL:https://firstumcmuncy.org/event/mens-breakfast-cracker-barrel-2024-01-02/2028-08-08/
END:VEVENT
BEGIN:VEVENT
DTSTART;TZID=America/New_York:20280815T070000
DTEND;TZID=America/New_York:20280815T070000
DTSTAMP:20260422T021806
CREATED:20221201T155342Z
LAST-MODIFIED:20250731T140016Z
UID:10021631-1849935600-1849935600@firstumcmuncy.org
SUMMARY:Men’s Breakfast – Cracker Barrel
DESCRIPTION:
URL:https://firstumcmuncy.org/event/mens-breakfast-cracker-barrel-2024-01-02/2028-08-15/
END:VEVENT
BEGIN:VEVENT
DTSTART;TZID=America/New_York:20280822T070000
DTEND;TZID=America/New_York:20280822T070000
DTSTAMP:20260422T021806
CREATED:20221201T155342Z
LAST-MODIFIED:20250731T140016Z
UID:10021632-1850540400-1850540400@firstumcmuncy.org
SUMMARY:Men’s Breakfast – Cracker Barrel
DESCRIPTION:
URL:https://firstumcmuncy.org/event/mens-breakfast-cracker-barrel-2024-01-02/2028-08-22/
END:VEVENT
BEGIN:VEVENT
DTSTART;TZID=America/New_York:20280829T070000
DTEND;TZID=America/New_York:20280829T070000
DTSTAMP:20260422T021806
CREATED:20221201T155342Z
LAST-MODIFIED:20250731T140016Z
UID:10021633-1851145200-1851145200@firstumcmuncy.org
SUMMARY:Men’s Breakfast – Cracker Barrel
DESCRIPTION:
URL:https://firstumcmuncy.org/event/mens-breakfast-cracker-barrel-2024-01-02/2028-08-29/
END:VEVENT
BEGIN:VEVENT
DTSTART;TZID=America/New_York:20280905T070000
DTEND;TZID=America/New_York:20280905T070000
DTSTAMP:20260422T021806
CREATED:20221201T155342Z
LAST-MODIFIED:20250731T140016Z
UID:10021634-1851750000-1851750000@firstumcmuncy.org
SUMMARY:Men’s Breakfast – Cracker Barrel
DESCRIPTION:
URL:https://firstumcmuncy.org/event/mens-breakfast-cracker-barrel-2024-01-02/2028-09-05/
END:VEVENT
BEGIN:VEVENT
DTSTART;TZID=America/New_York:20280912T070000
DTEND;TZID=America/New_York:20280912T070000
DTSTAMP:20260422T021806
CREATED:20221201T155342Z
LAST-MODIFIED:20250731T140016Z
UID:10021635-1852354800-1852354800@firstumcmuncy.org
SUMMARY:Men’s Breakfast – Cracker Barrel
DESCRIPTION:
URL:https://firstumcmuncy.org/event/mens-breakfast-cracker-barrel-2024-01-02/2028-09-12/
END:VEVENT
BEGIN:VEVENT
DTSTART;TZID=America/New_York:20280919T070000
DTEND;TZID=America/New_York:20280919T070000
DTSTAMP:20260422T021806
CREATED:20221201T155342Z
LAST-MODIFIED:20250731T140016Z
UID:10021636-1852959600-1852959600@firstumcmuncy.org
SUMMARY:Men’s Breakfast – Cracker Barrel
DESCRIPTION:
URL:https://firstumcmuncy.org/event/mens-breakfast-cracker-barrel-2024-01-02/2028-09-19/
END:VEVENT
BEGIN:VEVENT
DTSTART;TZID=America/New_York:20280926T070000
DTEND;TZID=America/New_York:20280926T070000
DTSTAMP:20260422T021806
CREATED:20221201T155342Z
LAST-MODIFIED:20250731T140016Z
UID:10021637-1853564400-1853564400@firstumcmuncy.org
SUMMARY:Men’s Breakfast – Cracker Barrel
DESCRIPTION:
URL:https://firstumcmuncy.org/event/mens-breakfast-cracker-barrel-2024-01-02/2028-09-26/
END:VEVENT
BEGIN:VEVENT
DTSTART;TZID=America/New_York:20281003T070000
DTEND;TZID=America/New_York:20281003T070000
DTSTAMP:20260422T021806
CREATED:20221201T155342Z
LAST-MODIFIED:20250731T140016Z
UID:10021638-1854169200-1854169200@firstumcmuncy.org
SUMMARY:Men’s Breakfast – Cracker Barrel
DESCRIPTION:
URL:https://firstumcmuncy.org/event/mens-breakfast-cracker-barrel-2024-01-02/2028-10-03/
END:VEVENT
BEGIN:VEVENT
DTSTART;TZID=America/New_York:20281010T070000
DTEND;TZID=America/New_York:20281010T070000
DTSTAMP:20260422T021806
CREATED:20221201T155342Z
LAST-MODIFIED:20250731T140016Z
UID:10021639-1854774000-1854774000@firstumcmuncy.org
SUMMARY:Men’s Breakfast – Cracker Barrel
DESCRIPTION:
URL:https://firstumcmuncy.org/event/mens-breakfast-cracker-barrel-2024-01-02/2028-10-10/
END:VEVENT
BEGIN:VEVENT
DTSTART;TZID=America/New_York:20281017T070000
DTEND;TZID=America/New_York:20281017T070000
DTSTAMP:20260422T021806
CREATED:20221201T155342Z
LAST-MODIFIED:20250731T140016Z
UID:10021640-1855378800-1855378800@firstumcmuncy.org
SUMMARY:Men’s Breakfast – Cracker Barrel
DESCRIPTION:
URL:https://firstumcmuncy.org/event/mens-breakfast-cracker-barrel-2024-01-02/2028-10-17/
END:VEVENT
BEGIN:VEVENT
DTSTART;TZID=America/New_York:20281024T070000
DTEND;TZID=America/New_York:20281024T070000
DTSTAMP:20260422T021806
CREATED:20221201T155342Z
LAST-MODIFIED:20250731T140016Z
UID:10021641-1855983600-1855983600@firstumcmuncy.org
SUMMARY:Men’s Breakfast – Cracker Barrel
DESCRIPTION:
URL:https://firstumcmuncy.org/event/mens-breakfast-cracker-barrel-2024-01-02/2028-10-24/
END:VEVENT
BEGIN:VEVENT
DTSTART;TZID=America/New_York:20281031T070000
DTEND;TZID=America/New_York:20281031T070000
DTSTAMP:20260422T021806
CREATED:20221201T155342Z
LAST-MODIFIED:20250731T140016Z
UID:10021642-1856588400-1856588400@firstumcmuncy.org
SUMMARY:Men’s Breakfast – Cracker Barrel
DESCRIPTION:
URL:https://firstumcmuncy.org/event/mens-breakfast-cracker-barrel-2024-01-02/2028-10-31/
END:VEVENT
BEGIN:VEVENT
DTSTART;TZID=America/New_York:20281107T070000
DTEND;TZID=America/New_York:20281107T070000
DTSTAMP:20260422T021806
CREATED:20221201T155342Z
LAST-MODIFIED:20250731T140016Z
UID:10021643-1857193200-1857193200@firstumcmuncy.org
SUMMARY:Men’s Breakfast – Cracker Barrel
DESCRIPTION:
URL:https://firstumcmuncy.org/event/mens-breakfast-cracker-barrel-2024-01-02/2028-11-07/
END:VEVENT
BEGIN:VEVENT
DTSTART;TZID=America/New_York:20281114T070000
DTEND;TZID=America/New_York:20281114T070000
DTSTAMP:20260422T021806
CREATED:20221201T155342Z
LAST-MODIFIED:20250731T140016Z
UID:10021644-1857798000-1857798000@firstumcmuncy.org
SUMMARY:Men’s Breakfast – Cracker Barrel
DESCRIPTION:
URL:https://firstumcmuncy.org/event/mens-breakfast-cracker-barrel-2024-01-02/2028-11-14/
END:VEVENT
BEGIN:VEVENT
DTSTART;TZID=America/New_York:20281121T070000
DTEND;TZID=America/New_York:20281121T070000
DTSTAMP:20260422T021806
CREATED:20221201T155342Z
LAST-MODIFIED:20250731T140016Z
UID:10021645-1858402800-1858402800@firstumcmuncy.org
SUMMARY:Men’s Breakfast – Cracker Barrel
DESCRIPTION:
URL:https://firstumcmuncy.org/event/mens-breakfast-cracker-barrel-2024-01-02/2028-11-21/
END:VEVENT
END:VCALENDAR