BEGIN:VCALENDAR
VERSION:2.0
PRODID:-//Muncy First United Methodist - ECPv6.11.2//NONSGML v1.0//EN
CALSCALE:GREGORIAN
METHOD:PUBLISH
X-WR-CALNAME:Muncy First United Methodist
X-ORIGINAL-URL:https://firstumcmuncy.org
X-WR-CALDESC:Events for Muncy First United Methodist
REFRESH-INTERVAL;VALUE=DURATION:PT1H
X-Robots-Tag:noindex
X-PUBLISHED-TTL:PT1H
BEGIN:VTIMEZONE
TZID:America/New_York
BEGIN:DAYLIGHT
TZOFFSETFROM:-0500
TZOFFSETTO:-0400
TZNAME:EDT
DTSTART:20260308T070000
END:DAYLIGHT
BEGIN:STANDARD
TZOFFSETFROM:-0400
TZOFFSETTO:-0500
TZNAME:EST
DTSTART:20261101T060000
END:STANDARD
END:VTIMEZONE
BEGIN:VEVENT
DTSTART;TZID=America/New_York:20260529T190000
DTEND;TZID=America/New_York:20260529T190000
DTSTAMP:20260422T132604
CREATED:20250306T103329Z
LAST-MODIFIED:20250731T140816Z
UID:10021990-1780081200-1780081200@firstumcmuncy.org
SUMMARY:Narcotics Anonymous Meeting – Room 107
DESCRIPTION:
URL:https://firstumcmuncy.org/event/narcotics-anonymous-meeting-room-107-3/2026-05-29/
END:VEVENT
BEGIN:VEVENT
DTSTART;TZID=America/New_York:20260602T190000
DTEND;TZID=America/New_York:20260602T190000
DTSTAMP:20260422T132604
CREATED:20250306T103329Z
LAST-MODIFIED:20250731T140816Z
UID:10021991-1780426800-1780426800@firstumcmuncy.org
SUMMARY:Narcotics Anonymous Meeting – Room 107
DESCRIPTION:
URL:https://firstumcmuncy.org/event/narcotics-anonymous-meeting-room-107-3/2026-06-02/
END:VEVENT
BEGIN:VEVENT
DTSTART;TZID=America/New_York:20260605T190000
DTEND;TZID=America/New_York:20260605T190000
DTSTAMP:20260422T132604
CREATED:20250306T103329Z
LAST-MODIFIED:20250731T140816Z
UID:10021992-1780686000-1780686000@firstumcmuncy.org
SUMMARY:Narcotics Anonymous Meeting – Room 107
DESCRIPTION:
URL:https://firstumcmuncy.org/event/narcotics-anonymous-meeting-room-107-3/2026-06-05/
END:VEVENT
BEGIN:VEVENT
DTSTART;TZID=America/New_York:20260609T190000
DTEND;TZID=America/New_York:20260609T190000
DTSTAMP:20260422T132604
CREATED:20250306T103329Z
LAST-MODIFIED:20250731T140816Z
UID:10021993-1781031600-1781031600@firstumcmuncy.org
SUMMARY:Narcotics Anonymous Meeting – Room 107
DESCRIPTION:
URL:https://firstumcmuncy.org/event/narcotics-anonymous-meeting-room-107-3/2026-06-09/
END:VEVENT
BEGIN:VEVENT
DTSTART;TZID=America/New_York:20260612T190000
DTEND;TZID=America/New_York:20260612T190000
DTSTAMP:20260422T132604
CREATED:20250306T103329Z
LAST-MODIFIED:20250731T140816Z
UID:10021994-1781290800-1781290800@firstumcmuncy.org
SUMMARY:Narcotics Anonymous Meeting – Room 107
DESCRIPTION:
URL:https://firstumcmuncy.org/event/narcotics-anonymous-meeting-room-107-3/2026-06-12/
END:VEVENT
BEGIN:VEVENT
DTSTART;TZID=America/New_York:20260616T190000
DTEND;TZID=America/New_York:20260616T190000
DTSTAMP:20260422T132604
CREATED:20250306T103329Z
LAST-MODIFIED:20250731T140816Z
UID:10021995-1781636400-1781636400@firstumcmuncy.org
SUMMARY:Narcotics Anonymous Meeting – Room 107
DESCRIPTION:
URL:https://firstumcmuncy.org/event/narcotics-anonymous-meeting-room-107-3/2026-06-16/
END:VEVENT
BEGIN:VEVENT
DTSTART;TZID=America/New_York:20260619T190000
DTEND;TZID=America/New_York:20260619T190000
DTSTAMP:20260422T132604
CREATED:20250306T103329Z
LAST-MODIFIED:20250731T140816Z
UID:10021996-1781895600-1781895600@firstumcmuncy.org
SUMMARY:Narcotics Anonymous Meeting – Room 107
DESCRIPTION:
URL:https://firstumcmuncy.org/event/narcotics-anonymous-meeting-room-107-3/2026-06-19/
END:VEVENT
BEGIN:VEVENT
DTSTART;TZID=America/New_York:20260623T190000
DTEND;TZID=America/New_York:20260623T190000
DTSTAMP:20260422T132604
CREATED:20250306T103329Z
LAST-MODIFIED:20250731T140816Z
UID:10021997-1782241200-1782241200@firstumcmuncy.org
SUMMARY:Narcotics Anonymous Meeting – Room 107
DESCRIPTION:
URL:https://firstumcmuncy.org/event/narcotics-anonymous-meeting-room-107-3/2026-06-23/
END:VEVENT
BEGIN:VEVENT
DTSTART;TZID=America/New_York:20260626T190000
DTEND;TZID=America/New_York:20260626T190000
DTSTAMP:20260422T132604
CREATED:20250306T103329Z
LAST-MODIFIED:20250731T140816Z
UID:10021998-1782500400-1782500400@firstumcmuncy.org
SUMMARY:Narcotics Anonymous Meeting – Room 107
DESCRIPTION:
URL:https://firstumcmuncy.org/event/narcotics-anonymous-meeting-room-107-3/2026-06-26/
END:VEVENT
BEGIN:VEVENT
DTSTART;TZID=America/New_York:20260630T190000
DTEND;TZID=America/New_York:20260630T190000
DTSTAMP:20260422T132604
CREATED:20250306T103329Z
LAST-MODIFIED:20250731T140816Z
UID:10021999-1782846000-1782846000@firstumcmuncy.org
SUMMARY:Narcotics Anonymous Meeting – Room 107
DESCRIPTION:
URL:https://firstumcmuncy.org/event/narcotics-anonymous-meeting-room-107-3/2026-06-30/
END:VEVENT
BEGIN:VEVENT
DTSTART;TZID=America/New_York:20260703T190000
DTEND;TZID=America/New_York:20260703T190000
DTSTAMP:20260422T132604
CREATED:20250306T103329Z
LAST-MODIFIED:20250731T140816Z
UID:10022000-1783105200-1783105200@firstumcmuncy.org
SUMMARY:Narcotics Anonymous Meeting – Room 107
DESCRIPTION:
URL:https://firstumcmuncy.org/event/narcotics-anonymous-meeting-room-107-3/2026-07-03/
END:VEVENT
BEGIN:VEVENT
DTSTART;TZID=America/New_York:20260707T190000
DTEND;TZID=America/New_York:20260707T190000
DTSTAMP:20260422T132604
CREATED:20250306T103329Z
LAST-MODIFIED:20250731T140816Z
UID:10022001-1783450800-1783450800@firstumcmuncy.org
SUMMARY:Narcotics Anonymous Meeting – Room 107
DESCRIPTION:
URL:https://firstumcmuncy.org/event/narcotics-anonymous-meeting-room-107-3/2026-07-07/
END:VEVENT
BEGIN:VEVENT
DTSTART;TZID=America/New_York:20260710T190000
DTEND;TZID=America/New_York:20260710T190000
DTSTAMP:20260422T132604
CREATED:20250306T103329Z
LAST-MODIFIED:20250731T140816Z
UID:10022002-1783710000-1783710000@firstumcmuncy.org
SUMMARY:Narcotics Anonymous Meeting – Room 107
DESCRIPTION:
URL:https://firstumcmuncy.org/event/narcotics-anonymous-meeting-room-107-3/2026-07-10/
END:VEVENT
BEGIN:VEVENT
DTSTART;TZID=America/New_York:20260714T190000
DTEND;TZID=America/New_York:20260714T190000
DTSTAMP:20260422T132604
CREATED:20250306T103329Z
LAST-MODIFIED:20250731T140816Z
UID:10022003-1784055600-1784055600@firstumcmuncy.org
SUMMARY:Narcotics Anonymous Meeting – Room 107
DESCRIPTION:
URL:https://firstumcmuncy.org/event/narcotics-anonymous-meeting-room-107-3/2026-07-14/
END:VEVENT
BEGIN:VEVENT
DTSTART;TZID=America/New_York:20260717T190000
DTEND;TZID=America/New_York:20260717T190000
DTSTAMP:20260422T132604
CREATED:20250306T103329Z
LAST-MODIFIED:20250731T140816Z
UID:10022004-1784314800-1784314800@firstumcmuncy.org
SUMMARY:Narcotics Anonymous Meeting – Room 107
DESCRIPTION:
URL:https://firstumcmuncy.org/event/narcotics-anonymous-meeting-room-107-3/2026-07-17/
END:VEVENT
BEGIN:VEVENT
DTSTART;TZID=America/New_York:20260721T190000
DTEND;TZID=America/New_York:20260721T190000
DTSTAMP:20260422T132604
CREATED:20250306T103329Z
LAST-MODIFIED:20250731T140816Z
UID:10022005-1784660400-1784660400@firstumcmuncy.org
SUMMARY:Narcotics Anonymous Meeting – Room 107
DESCRIPTION:
URL:https://firstumcmuncy.org/event/narcotics-anonymous-meeting-room-107-3/2026-07-21/
END:VEVENT
BEGIN:VEVENT
DTSTART;TZID=America/New_York:20260724T190000
DTEND;TZID=America/New_York:20260724T190000
DTSTAMP:20260422T132604
CREATED:20250306T103329Z
LAST-MODIFIED:20250731T140816Z
UID:10022006-1784919600-1784919600@firstumcmuncy.org
SUMMARY:Narcotics Anonymous Meeting – Room 107
DESCRIPTION:
URL:https://firstumcmuncy.org/event/narcotics-anonymous-meeting-room-107-3/2026-07-24/
END:VEVENT
BEGIN:VEVENT
DTSTART;TZID=America/New_York:20260728T190000
DTEND;TZID=America/New_York:20260728T190000
DTSTAMP:20260422T132604
CREATED:20250306T103329Z
LAST-MODIFIED:20250731T140816Z
UID:10022007-1785265200-1785265200@firstumcmuncy.org
SUMMARY:Narcotics Anonymous Meeting – Room 107
DESCRIPTION:
URL:https://firstumcmuncy.org/event/narcotics-anonymous-meeting-room-107-3/2026-07-28/
END:VEVENT
BEGIN:VEVENT
DTSTART;TZID=America/New_York:20260731T190000
DTEND;TZID=America/New_York:20260731T190000
DTSTAMP:20260422T132604
CREATED:20250306T103329Z
LAST-MODIFIED:20250731T140816Z
UID:10022008-1785524400-1785524400@firstumcmuncy.org
SUMMARY:Narcotics Anonymous Meeting – Room 107
DESCRIPTION:
URL:https://firstumcmuncy.org/event/narcotics-anonymous-meeting-room-107-3/2026-07-31/
END:VEVENT
BEGIN:VEVENT
DTSTART;TZID=America/New_York:20260804T190000
DTEND;TZID=America/New_York:20260804T190000
DTSTAMP:20260422T132604
CREATED:20250306T103329Z
LAST-MODIFIED:20250731T140816Z
UID:10022009-1785870000-1785870000@firstumcmuncy.org
SUMMARY:Narcotics Anonymous Meeting – Room 107
DESCRIPTION:
URL:https://firstumcmuncy.org/event/narcotics-anonymous-meeting-room-107-3/2026-08-04/
END:VEVENT
BEGIN:VEVENT
DTSTART;TZID=America/New_York:20260807T190000
DTEND;TZID=America/New_York:20260807T190000
DTSTAMP:20260422T132604
CREATED:20250306T103329Z
LAST-MODIFIED:20250731T140816Z
UID:10022010-1786129200-1786129200@firstumcmuncy.org
SUMMARY:Narcotics Anonymous Meeting – Room 107
DESCRIPTION:
URL:https://firstumcmuncy.org/event/narcotics-anonymous-meeting-room-107-3/2026-08-07/
END:VEVENT
BEGIN:VEVENT
DTSTART;TZID=America/New_York:20260811T190000
DTEND;TZID=America/New_York:20260811T190000
DTSTAMP:20260422T132604
CREATED:20250306T103329Z
LAST-MODIFIED:20250731T140816Z
UID:10022011-1786474800-1786474800@firstumcmuncy.org
SUMMARY:Narcotics Anonymous Meeting – Room 107
DESCRIPTION:
URL:https://firstumcmuncy.org/event/narcotics-anonymous-meeting-room-107-3/2026-08-11/
END:VEVENT
BEGIN:VEVENT
DTSTART;TZID=America/New_York:20260814T190000
DTEND;TZID=America/New_York:20260814T190000
DTSTAMP:20260422T132604
CREATED:20250306T103329Z
LAST-MODIFIED:20250731T140816Z
UID:10022012-1786734000-1786734000@firstumcmuncy.org
SUMMARY:Narcotics Anonymous Meeting – Room 107
DESCRIPTION:
URL:https://firstumcmuncy.org/event/narcotics-anonymous-meeting-room-107-3/2026-08-14/
END:VEVENT
BEGIN:VEVENT
DTSTART;TZID=America/New_York:20260818T190000
DTEND;TZID=America/New_York:20260818T190000
DTSTAMP:20260422T132604
CREATED:20250306T103329Z
LAST-MODIFIED:20250731T140816Z
UID:10022013-1787079600-1787079600@firstumcmuncy.org
SUMMARY:Narcotics Anonymous Meeting – Room 107
DESCRIPTION:
URL:https://firstumcmuncy.org/event/narcotics-anonymous-meeting-room-107-3/2026-08-18/
END:VEVENT
BEGIN:VEVENT
DTSTART;TZID=America/New_York:20260821T190000
DTEND;TZID=America/New_York:20260821T190000
DTSTAMP:20260422T132604
CREATED:20250306T103329Z
LAST-MODIFIED:20250731T140816Z
UID:10022014-1787338800-1787338800@firstumcmuncy.org
SUMMARY:Narcotics Anonymous Meeting – Room 107
DESCRIPTION:
URL:https://firstumcmuncy.org/event/narcotics-anonymous-meeting-room-107-3/2026-08-21/
END:VEVENT
BEGIN:VEVENT
DTSTART;TZID=America/New_York:20260825T190000
DTEND;TZID=America/New_York:20260825T190000
DTSTAMP:20260422T132604
CREATED:20250306T103329Z
LAST-MODIFIED:20250731T140816Z
UID:10022015-1787684400-1787684400@firstumcmuncy.org
SUMMARY:Narcotics Anonymous Meeting – Room 107
DESCRIPTION:
URL:https://firstumcmuncy.org/event/narcotics-anonymous-meeting-room-107-3/2026-08-25/
END:VEVENT
BEGIN:VEVENT
DTSTART;TZID=America/New_York:20260828T190000
DTEND;TZID=America/New_York:20260828T190000
DTSTAMP:20260422T132604
CREATED:20250306T103329Z
LAST-MODIFIED:20250731T140816Z
UID:10022016-1787943600-1787943600@firstumcmuncy.org
SUMMARY:Narcotics Anonymous Meeting – Room 107
DESCRIPTION:
URL:https://firstumcmuncy.org/event/narcotics-anonymous-meeting-room-107-3/2026-08-28/
END:VEVENT
BEGIN:VEVENT
DTSTART;TZID=America/New_York:20260901T190000
DTEND;TZID=America/New_York:20260901T190000
DTSTAMP:20260422T132604
CREATED:20250306T103329Z
LAST-MODIFIED:20250731T140816Z
UID:10022017-1788289200-1788289200@firstumcmuncy.org
SUMMARY:Narcotics Anonymous Meeting – Room 107
DESCRIPTION:
URL:https://firstumcmuncy.org/event/narcotics-anonymous-meeting-room-107-3/2026-09-01/
END:VEVENT
BEGIN:VEVENT
DTSTART;TZID=America/New_York:20260904T190000
DTEND;TZID=America/New_York:20260904T190000
DTSTAMP:20260422T132604
CREATED:20250306T103329Z
LAST-MODIFIED:20250731T140816Z
UID:10022018-1788548400-1788548400@firstumcmuncy.org
SUMMARY:Narcotics Anonymous Meeting – Room 107
DESCRIPTION:
URL:https://firstumcmuncy.org/event/narcotics-anonymous-meeting-room-107-3/2026-09-04/
END:VEVENT
BEGIN:VEVENT
DTSTART;TZID=America/New_York:20260908T190000
DTEND;TZID=America/New_York:20260908T190000
DTSTAMP:20260422T132604
CREATED:20250306T103329Z
LAST-MODIFIED:20250731T140816Z
UID:10022019-1788894000-1788894000@firstumcmuncy.org
SUMMARY:Narcotics Anonymous Meeting – Room 107
DESCRIPTION:
URL:https://firstumcmuncy.org/event/narcotics-anonymous-meeting-room-107-3/2026-09-08/
END:VEVENT
END:VCALENDAR