BEGIN:VCALENDAR
VERSION:2.0
PRODID:-//Muncy First United Methodist - ECPv6.11.2//NONSGML v1.0//EN
CALSCALE:GREGORIAN
METHOD:PUBLISH
X-ORIGINAL-URL:https://firstumcmuncy.org
X-WR-CALDESC:Events for Muncy First United Methodist
REFRESH-INTERVAL;VALUE=DURATION:PT1H
X-Robots-Tag:noindex
X-PUBLISHED-TTL:PT1H
BEGIN:VTIMEZONE
TZID:America/New_York
BEGIN:DAYLIGHT
TZOFFSETFROM:-0500
TZOFFSETTO:-0400
TZNAME:EDT
DTSTART:20260308T070000
END:DAYLIGHT
BEGIN:STANDARD
TZOFFSETFROM:-0400
TZOFFSETTO:-0500
TZNAME:EST
DTSTART:20261101T060000
END:STANDARD
END:VTIMEZONE
BEGIN:VEVENT
DTSTART;TZID=America/New_York:20260705T093000
DTEND;TZID=America/New_York:20260705T093000
DTSTAMP:20260420T163242
CREATED:20241116T125825Z
LAST-MODIFIED:20260203T103023Z
UID:10021830-1783243800-1783243800@firstumcmuncy.org
SUMMARY:Contemporary Worship Service (Living Water Cafe)
DESCRIPTION:
URL:https://firstumcmuncy.org/event/contemporary-worship-service-living-water-cafe-2/2026-07-05/
END:VEVENT
BEGIN:VEVENT
DTSTART;TZID=America/New_York:20260712T093000
DTEND;TZID=America/New_York:20260712T093000
DTSTAMP:20260420T163242
CREATED:20241116T125825Z
LAST-MODIFIED:20260203T103023Z
UID:10021831-1783848600-1783848600@firstumcmuncy.org
SUMMARY:Contemporary Worship Service (Living Water Cafe)
DESCRIPTION:
URL:https://firstumcmuncy.org/event/contemporary-worship-service-living-water-cafe-2/2026-07-12/
END:VEVENT
BEGIN:VEVENT
DTSTART;TZID=America/New_York:20260719T093000
DTEND;TZID=America/New_York:20260719T093000
DTSTAMP:20260420T163242
CREATED:20241116T125825Z
LAST-MODIFIED:20260203T103023Z
UID:10021832-1784453400-1784453400@firstumcmuncy.org
SUMMARY:Contemporary Worship Service (Living Water Cafe)
DESCRIPTION:
URL:https://firstumcmuncy.org/event/contemporary-worship-service-living-water-cafe-2/2026-07-19/
END:VEVENT
BEGIN:VEVENT
DTSTART;TZID=America/New_York:20260726T093000
DTEND;TZID=America/New_York:20260726T093000
DTSTAMP:20260420T163242
CREATED:20241116T125825Z
LAST-MODIFIED:20260203T103023Z
UID:10021833-1785058200-1785058200@firstumcmuncy.org
SUMMARY:Contemporary Worship Service (Living Water Cafe)
DESCRIPTION:
URL:https://firstumcmuncy.org/event/contemporary-worship-service-living-water-cafe-2/2026-07-26/
END:VEVENT
BEGIN:VEVENT
DTSTART;TZID=America/New_York:20260802T093000
DTEND;TZID=America/New_York:20260802T093000
DTSTAMP:20260420T163242
CREATED:20241116T125825Z
LAST-MODIFIED:20260203T103023Z
UID:10021834-1785663000-1785663000@firstumcmuncy.org
SUMMARY:Contemporary Worship Service (Living Water Cafe)
DESCRIPTION:
URL:https://firstumcmuncy.org/event/contemporary-worship-service-living-water-cafe-2/2026-08-02/
END:VEVENT
BEGIN:VEVENT
DTSTART;TZID=America/New_York:20260809T093000
DTEND;TZID=America/New_York:20260809T093000
DTSTAMP:20260420T163242
CREATED:20241116T125825Z
LAST-MODIFIED:20260203T103023Z
UID:10021835-1786267800-1786267800@firstumcmuncy.org
SUMMARY:Contemporary Worship Service (Living Water Cafe)
DESCRIPTION:
URL:https://firstumcmuncy.org/event/contemporary-worship-service-living-water-cafe-2/2026-08-09/
END:VEVENT
BEGIN:VEVENT
DTSTART;TZID=America/New_York:20260816T093000
DTEND;TZID=America/New_York:20260816T093000
DTSTAMP:20260420T163242
CREATED:20241116T125825Z
LAST-MODIFIED:20260203T103023Z
UID:10021836-1786872600-1786872600@firstumcmuncy.org
SUMMARY:Contemporary Worship Service (Living Water Cafe)
DESCRIPTION:
URL:https://firstumcmuncy.org/event/contemporary-worship-service-living-water-cafe-2/2026-08-16/
END:VEVENT
BEGIN:VEVENT
DTSTART;TZID=America/New_York:20260823T093000
DTEND;TZID=America/New_York:20260823T093000
DTSTAMP:20260420T163242
CREATED:20241116T125825Z
LAST-MODIFIED:20260203T103023Z
UID:10021837-1787477400-1787477400@firstumcmuncy.org
SUMMARY:Contemporary Worship Service (Living Water Cafe)
DESCRIPTION:
URL:https://firstumcmuncy.org/event/contemporary-worship-service-living-water-cafe-2/2026-08-23/
END:VEVENT
BEGIN:VEVENT
DTSTART;TZID=America/New_York:20260830T093000
DTEND;TZID=America/New_York:20260830T093000
DTSTAMP:20260420T163242
CREATED:20241116T125825Z
LAST-MODIFIED:20260203T103023Z
UID:10021838-1788082200-1788082200@firstumcmuncy.org
SUMMARY:Contemporary Worship Service (Living Water Cafe)
DESCRIPTION:
URL:https://firstumcmuncy.org/event/contemporary-worship-service-living-water-cafe-2/2026-08-30/
END:VEVENT
BEGIN:VEVENT
DTSTART;TZID=America/New_York:20260906T093000
DTEND;TZID=America/New_York:20260906T093000
DTSTAMP:20260420T163242
CREATED:20241116T125825Z
LAST-MODIFIED:20260203T103023Z
UID:10021839-1788687000-1788687000@firstumcmuncy.org
SUMMARY:Contemporary Worship Service (Living Water Cafe)
DESCRIPTION:
URL:https://firstumcmuncy.org/event/contemporary-worship-service-living-water-cafe-2/2026-09-06/
END:VEVENT
BEGIN:VEVENT
DTSTART;TZID=America/New_York:20260913T093000
DTEND;TZID=America/New_York:20260913T093000
DTSTAMP:20260420T163242
CREATED:20241116T125825Z
LAST-MODIFIED:20260203T103023Z
UID:10021840-1789291800-1789291800@firstumcmuncy.org
SUMMARY:Contemporary Worship Service (Living Water Cafe)
DESCRIPTION:
URL:https://firstumcmuncy.org/event/contemporary-worship-service-living-water-cafe-2/2026-09-13/
END:VEVENT
BEGIN:VEVENT
DTSTART;TZID=America/New_York:20260920T093000
DTEND;TZID=America/New_York:20260920T093000
DTSTAMP:20260420T163242
CREATED:20241116T125825Z
LAST-MODIFIED:20260203T103023Z
UID:10021841-1789896600-1789896600@firstumcmuncy.org
SUMMARY:Contemporary Worship Service (Living Water Cafe)
DESCRIPTION:
URL:https://firstumcmuncy.org/event/contemporary-worship-service-living-water-cafe-2/2026-09-20/
END:VEVENT
BEGIN:VEVENT
DTSTART;TZID=America/New_York:20260927T093000
DTEND;TZID=America/New_York:20260927T093000
DTSTAMP:20260420T163242
CREATED:20241116T125825Z
LAST-MODIFIED:20260203T103023Z
UID:10021842-1790501400-1790501400@firstumcmuncy.org
SUMMARY:Contemporary Worship Service (Living Water Cafe)
DESCRIPTION:
URL:https://firstumcmuncy.org/event/contemporary-worship-service-living-water-cafe-2/2026-09-27/
END:VEVENT
BEGIN:VEVENT
DTSTART;TZID=America/New_York:20261004T093000
DTEND;TZID=America/New_York:20261004T093000
DTSTAMP:20260420T163242
CREATED:20241116T125825Z
LAST-MODIFIED:20260203T103023Z
UID:10021843-1791106200-1791106200@firstumcmuncy.org
SUMMARY:Contemporary Worship Service (Living Water Cafe)
DESCRIPTION:
URL:https://firstumcmuncy.org/event/contemporary-worship-service-living-water-cafe-2/2026-10-04/
END:VEVENT
BEGIN:VEVENT
DTSTART;TZID=America/New_York:20261011T093000
DTEND;TZID=America/New_York:20261011T093000
DTSTAMP:20260420T163242
CREATED:20241116T125825Z
LAST-MODIFIED:20260203T103023Z
UID:10021844-1791711000-1791711000@firstumcmuncy.org
SUMMARY:Contemporary Worship Service (Living Water Cafe)
DESCRIPTION:
URL:https://firstumcmuncy.org/event/contemporary-worship-service-living-water-cafe-2/2026-10-11/
END:VEVENT
BEGIN:VEVENT
DTSTART;TZID=America/New_York:20261018T093000
DTEND;TZID=America/New_York:20261018T093000
DTSTAMP:20260420T163242
CREATED:20241116T125825Z
LAST-MODIFIED:20260203T103023Z
UID:10021845-1792315800-1792315800@firstumcmuncy.org
SUMMARY:Contemporary Worship Service (Living Water Cafe)
DESCRIPTION:
URL:https://firstumcmuncy.org/event/contemporary-worship-service-living-water-cafe-2/2026-10-18/
END:VEVENT
BEGIN:VEVENT
DTSTART;TZID=America/New_York:20261025T093000
DTEND;TZID=America/New_York:20261025T093000
DTSTAMP:20260420T163242
CREATED:20241116T125825Z
LAST-MODIFIED:20260203T103023Z
UID:10021846-1792920600-1792920600@firstumcmuncy.org
SUMMARY:Contemporary Worship Service (Living Water Cafe)
DESCRIPTION:
URL:https://firstumcmuncy.org/event/contemporary-worship-service-living-water-cafe-2/2026-10-25/
END:VEVENT
BEGIN:VEVENT
DTSTART;TZID=America/New_York:20261101T093000
DTEND;TZID=America/New_York:20261101T093000
DTSTAMP:20260420T163242
CREATED:20241116T125825Z
LAST-MODIFIED:20260203T103023Z
UID:10021847-1793525400-1793525400@firstumcmuncy.org
SUMMARY:Contemporary Worship Service (Living Water Cafe)
DESCRIPTION:
URL:https://firstumcmuncy.org/event/contemporary-worship-service-living-water-cafe-2/2026-11-01/
END:VEVENT
BEGIN:VEVENT
DTSTART;TZID=America/New_York:20261108T093000
DTEND;TZID=America/New_York:20261108T093000
DTSTAMP:20260420T163242
CREATED:20241116T125825Z
LAST-MODIFIED:20260203T103023Z
UID:10021848-1794130200-1794130200@firstumcmuncy.org
SUMMARY:Contemporary Worship Service (Living Water Cafe)
DESCRIPTION:
URL:https://firstumcmuncy.org/event/contemporary-worship-service-living-water-cafe-2/2026-11-08/
END:VEVENT
BEGIN:VEVENT
DTSTART;TZID=America/New_York:20261115T093000
DTEND;TZID=America/New_York:20261115T093000
DTSTAMP:20260420T163242
CREATED:20241116T125825Z
LAST-MODIFIED:20260203T103023Z
UID:10021849-1794735000-1794735000@firstumcmuncy.org
SUMMARY:Contemporary Worship Service (Living Water Cafe)
DESCRIPTION:
URL:https://firstumcmuncy.org/event/contemporary-worship-service-living-water-cafe-2/2026-11-15/
END:VEVENT
BEGIN:VEVENT
DTSTART;TZID=America/New_York:20261122T093000
DTEND;TZID=America/New_York:20261122T093000
DTSTAMP:20260420T163242
CREATED:20241116T125825Z
LAST-MODIFIED:20260203T103023Z
UID:10021850-1795339800-1795339800@firstumcmuncy.org
SUMMARY:Contemporary Worship Service (Living Water Cafe)
DESCRIPTION:
URL:https://firstumcmuncy.org/event/contemporary-worship-service-living-water-cafe-2/2026-11-22/
END:VEVENT
BEGIN:VEVENT
DTSTART;TZID=America/New_York:20261129T093000
DTEND;TZID=America/New_York:20261129T093000
DTSTAMP:20260420T163242
CREATED:20241116T125825Z
LAST-MODIFIED:20260203T103023Z
UID:10021851-1795944600-1795944600@firstumcmuncy.org
SUMMARY:Contemporary Worship Service (Living Water Cafe)
DESCRIPTION:
URL:https://firstumcmuncy.org/event/contemporary-worship-service-living-water-cafe-2/2026-11-29/
END:VEVENT
BEGIN:VEVENT
DTSTART;TZID=America/New_York:20261206T093000
DTEND;TZID=America/New_York:20261206T093000
DTSTAMP:20260420T163242
CREATED:20241116T125825Z
LAST-MODIFIED:20260203T103023Z
UID:10021852-1796549400-1796549400@firstumcmuncy.org
SUMMARY:Contemporary Worship Service (Living Water Cafe)
DESCRIPTION:
URL:https://firstumcmuncy.org/event/contemporary-worship-service-living-water-cafe-2/2026-12-06/
END:VEVENT
BEGIN:VEVENT
DTSTART;TZID=America/New_York:20261213T093000
DTEND;TZID=America/New_York:20261213T093000
DTSTAMP:20260420T163242
CREATED:20241116T125825Z
LAST-MODIFIED:20260203T103023Z
UID:10021853-1797154200-1797154200@firstumcmuncy.org
SUMMARY:Contemporary Worship Service (Living Water Cafe)
DESCRIPTION:
URL:https://firstumcmuncy.org/event/contemporary-worship-service-living-water-cafe-2/2026-12-13/
END:VEVENT
BEGIN:VEVENT
DTSTART;TZID=America/New_York:20261220T093000
DTEND;TZID=America/New_York:20261220T093000
DTSTAMP:20260420T163242
CREATED:20241116T125825Z
LAST-MODIFIED:20260203T103023Z
UID:10021854-1797759000-1797759000@firstumcmuncy.org
SUMMARY:Contemporary Worship Service (Living Water Cafe)
DESCRIPTION:
URL:https://firstumcmuncy.org/event/contemporary-worship-service-living-water-cafe-2/2026-12-20/
END:VEVENT
BEGIN:VEVENT
DTSTART;TZID=America/New_York:20261227T093000
DTEND;TZID=America/New_York:20261227T093000
DTSTAMP:20260420T163242
CREATED:20241116T125825Z
LAST-MODIFIED:20260203T103023Z
UID:10021855-1798363800-1798363800@firstumcmuncy.org
SUMMARY:Contemporary Worship Service (Living Water Cafe)
DESCRIPTION:
URL:https://firstumcmuncy.org/event/contemporary-worship-service-living-water-cafe-2/2026-12-27/
END:VEVENT
END:VCALENDAR