BEGIN:VCALENDAR
VERSION:2.0
PRODID:-//Muncy First United Methodist - ECPv6.11.2//NONSGML v1.0//EN
CALSCALE:GREGORIAN
METHOD:PUBLISH
X-ORIGINAL-URL:https://firstumcmuncy.org
X-WR-CALDESC:Events for Muncy First United Methodist
REFRESH-INTERVAL;VALUE=DURATION:PT1H
X-Robots-Tag:noindex
X-PUBLISHED-TTL:PT1H
BEGIN:VTIMEZONE
TZID:America/New_York
BEGIN:DAYLIGHT
TZOFFSETFROM:-0500
TZOFFSETTO:-0400
TZNAME:EDT
DTSTART:20260308T070000
END:DAYLIGHT
BEGIN:STANDARD
TZOFFSETFROM:-0400
TZOFFSETTO:-0500
TZNAME:EST
DTSTART:20261101T060000
END:STANDARD
BEGIN:DAYLIGHT
TZOFFSETFROM:-0500
TZOFFSETTO:-0400
TZNAME:EDT
DTSTART:20270314T070000
END:DAYLIGHT
BEGIN:STANDARD
TZOFFSETFROM:-0400
TZOFFSETTO:-0500
TZNAME:EST
DTSTART:20271107T060000
END:STANDARD
END:VTIMEZONE
BEGIN:VEVENT
DTSTART;TZID=America/New_York:20261124T070000
DTEND;TZID=America/New_York:20261124T070000
DTSTAMP:20260421T131053
CREATED:20221201T155342Z
LAST-MODIFIED:20250731T140016Z
UID:10021541-1795503600-1795503600@firstumcmuncy.org
SUMMARY:Men’s Breakfast – Cracker Barrel
DESCRIPTION:
URL:https://firstumcmuncy.org/event/mens-breakfast-cracker-barrel-2024-01-02/2026-11-24/
END:VEVENT
BEGIN:VEVENT
DTSTART;TZID=America/New_York:20261201T070000
DTEND;TZID=America/New_York:20261201T070000
DTSTAMP:20260421T131053
CREATED:20221201T155342Z
LAST-MODIFIED:20250731T140016Z
UID:10021542-1796108400-1796108400@firstumcmuncy.org
SUMMARY:Men’s Breakfast – Cracker Barrel
DESCRIPTION:
URL:https://firstumcmuncy.org/event/mens-breakfast-cracker-barrel-2024-01-02/2026-12-01/
END:VEVENT
BEGIN:VEVENT
DTSTART;TZID=America/New_York:20261208T070000
DTEND;TZID=America/New_York:20261208T070000
DTSTAMP:20260421T131053
CREATED:20221201T155342Z
LAST-MODIFIED:20250731T140016Z
UID:10021543-1796713200-1796713200@firstumcmuncy.org
SUMMARY:Men’s Breakfast – Cracker Barrel
DESCRIPTION:
URL:https://firstumcmuncy.org/event/mens-breakfast-cracker-barrel-2024-01-02/2026-12-08/
END:VEVENT
BEGIN:VEVENT
DTSTART;TZID=America/New_York:20261215T070000
DTEND;TZID=America/New_York:20261215T070000
DTSTAMP:20260421T131053
CREATED:20221201T155342Z
LAST-MODIFIED:20250731T140016Z
UID:10021544-1797318000-1797318000@firstumcmuncy.org
SUMMARY:Men’s Breakfast – Cracker Barrel
DESCRIPTION:
URL:https://firstumcmuncy.org/event/mens-breakfast-cracker-barrel-2024-01-02/2026-12-15/
END:VEVENT
BEGIN:VEVENT
DTSTART;TZID=America/New_York:20261222T070000
DTEND;TZID=America/New_York:20261222T070000
DTSTAMP:20260421T131053
CREATED:20221201T155342Z
LAST-MODIFIED:20250731T140016Z
UID:10021545-1797922800-1797922800@firstumcmuncy.org
SUMMARY:Men’s Breakfast – Cracker Barrel
DESCRIPTION:
URL:https://firstumcmuncy.org/event/mens-breakfast-cracker-barrel-2024-01-02/2026-12-22/
END:VEVENT
BEGIN:VEVENT
DTSTART;TZID=America/New_York:20261229T070000
DTEND;TZID=America/New_York:20261229T070000
DTSTAMP:20260421T131053
CREATED:20221201T155342Z
LAST-MODIFIED:20250731T140016Z
UID:10021546-1798527600-1798527600@firstumcmuncy.org
SUMMARY:Men’s Breakfast – Cracker Barrel
DESCRIPTION:
URL:https://firstumcmuncy.org/event/mens-breakfast-cracker-barrel-2024-01-02/2026-12-29/
END:VEVENT
BEGIN:VEVENT
DTSTART;TZID=America/New_York:20270105T070000
DTEND;TZID=America/New_York:20270105T070000
DTSTAMP:20260421T131053
CREATED:20221201T155342Z
LAST-MODIFIED:20250731T140016Z
UID:10021547-1799132400-1799132400@firstumcmuncy.org
SUMMARY:Men’s Breakfast – Cracker Barrel
DESCRIPTION:
URL:https://firstumcmuncy.org/event/mens-breakfast-cracker-barrel-2024-01-02/2027-01-05/
END:VEVENT
BEGIN:VEVENT
DTSTART;TZID=America/New_York:20270112T070000
DTEND;TZID=America/New_York:20270112T070000
DTSTAMP:20260421T131053
CREATED:20221201T155342Z
LAST-MODIFIED:20250731T140016Z
UID:10021548-1799737200-1799737200@firstumcmuncy.org
SUMMARY:Men’s Breakfast – Cracker Barrel
DESCRIPTION:
URL:https://firstumcmuncy.org/event/mens-breakfast-cracker-barrel-2024-01-02/2027-01-12/
END:VEVENT
BEGIN:VEVENT
DTSTART;TZID=America/New_York:20270119T070000
DTEND;TZID=America/New_York:20270119T070000
DTSTAMP:20260421T131053
CREATED:20221201T155342Z
LAST-MODIFIED:20250731T140016Z
UID:10021549-1800342000-1800342000@firstumcmuncy.org
SUMMARY:Men’s Breakfast – Cracker Barrel
DESCRIPTION:
URL:https://firstumcmuncy.org/event/mens-breakfast-cracker-barrel-2024-01-02/2027-01-19/
END:VEVENT
BEGIN:VEVENT
DTSTART;TZID=America/New_York:20270126T070000
DTEND;TZID=America/New_York:20270126T070000
DTSTAMP:20260421T131053
CREATED:20221201T155342Z
LAST-MODIFIED:20250731T140016Z
UID:10021550-1800946800-1800946800@firstumcmuncy.org
SUMMARY:Men’s Breakfast – Cracker Barrel
DESCRIPTION:
URL:https://firstumcmuncy.org/event/mens-breakfast-cracker-barrel-2024-01-02/2027-01-26/
END:VEVENT
BEGIN:VEVENT
DTSTART;TZID=America/New_York:20270202T070000
DTEND;TZID=America/New_York:20270202T070000
DTSTAMP:20260421T131053
CREATED:20221201T155342Z
LAST-MODIFIED:20250731T140016Z
UID:10021551-1801551600-1801551600@firstumcmuncy.org
SUMMARY:Men’s Breakfast – Cracker Barrel
DESCRIPTION:
URL:https://firstumcmuncy.org/event/mens-breakfast-cracker-barrel-2024-01-02/2027-02-02/
END:VEVENT
BEGIN:VEVENT
DTSTART;TZID=America/New_York:20270209T070000
DTEND;TZID=America/New_York:20270209T070000
DTSTAMP:20260421T131053
CREATED:20221201T155342Z
LAST-MODIFIED:20250731T140016Z
UID:10021552-1802156400-1802156400@firstumcmuncy.org
SUMMARY:Men’s Breakfast – Cracker Barrel
DESCRIPTION:
URL:https://firstumcmuncy.org/event/mens-breakfast-cracker-barrel-2024-01-02/2027-02-09/
END:VEVENT
BEGIN:VEVENT
DTSTART;TZID=America/New_York:20270216T070000
DTEND;TZID=America/New_York:20270216T070000
DTSTAMP:20260421T131053
CREATED:20221201T155342Z
LAST-MODIFIED:20250731T140016Z
UID:10021553-1802761200-1802761200@firstumcmuncy.org
SUMMARY:Men’s Breakfast – Cracker Barrel
DESCRIPTION:
URL:https://firstumcmuncy.org/event/mens-breakfast-cracker-barrel-2024-01-02/2027-02-16/
END:VEVENT
BEGIN:VEVENT
DTSTART;TZID=America/New_York:20270223T070000
DTEND;TZID=America/New_York:20270223T070000
DTSTAMP:20260421T131053
CREATED:20221201T155342Z
LAST-MODIFIED:20250731T140016Z
UID:10021554-1803366000-1803366000@firstumcmuncy.org
SUMMARY:Men’s Breakfast – Cracker Barrel
DESCRIPTION:
URL:https://firstumcmuncy.org/event/mens-breakfast-cracker-barrel-2024-01-02/2027-02-23/
END:VEVENT
BEGIN:VEVENT
DTSTART;TZID=America/New_York:20270302T070000
DTEND;TZID=America/New_York:20270302T070000
DTSTAMP:20260421T131053
CREATED:20221201T155342Z
LAST-MODIFIED:20250731T140016Z
UID:10021555-1803970800-1803970800@firstumcmuncy.org
SUMMARY:Men’s Breakfast – Cracker Barrel
DESCRIPTION:
URL:https://firstumcmuncy.org/event/mens-breakfast-cracker-barrel-2024-01-02/2027-03-02/
END:VEVENT
BEGIN:VEVENT
DTSTART;TZID=America/New_York:20270309T070000
DTEND;TZID=America/New_York:20270309T070000
DTSTAMP:20260421T131053
CREATED:20221201T155342Z
LAST-MODIFIED:20250731T140016Z
UID:10021556-1804575600-1804575600@firstumcmuncy.org
SUMMARY:Men’s Breakfast – Cracker Barrel
DESCRIPTION:
URL:https://firstumcmuncy.org/event/mens-breakfast-cracker-barrel-2024-01-02/2027-03-09/
END:VEVENT
BEGIN:VEVENT
DTSTART;TZID=America/New_York:20270316T070000
DTEND;TZID=America/New_York:20270316T070000
DTSTAMP:20260421T131053
CREATED:20221201T155342Z
LAST-MODIFIED:20250731T140016Z
UID:10021557-1805180400-1805180400@firstumcmuncy.org
SUMMARY:Men’s Breakfast – Cracker Barrel
DESCRIPTION:
URL:https://firstumcmuncy.org/event/mens-breakfast-cracker-barrel-2024-01-02/2027-03-16/
END:VEVENT
BEGIN:VEVENT
DTSTART;TZID=America/New_York:20270323T070000
DTEND;TZID=America/New_York:20270323T070000
DTSTAMP:20260421T131053
CREATED:20221201T155342Z
LAST-MODIFIED:20250731T140016Z
UID:10021558-1805785200-1805785200@firstumcmuncy.org
SUMMARY:Men’s Breakfast – Cracker Barrel
DESCRIPTION:
URL:https://firstumcmuncy.org/event/mens-breakfast-cracker-barrel-2024-01-02/2027-03-23/
END:VEVENT
BEGIN:VEVENT
DTSTART;TZID=America/New_York:20270330T070000
DTEND;TZID=America/New_York:20270330T070000
DTSTAMP:20260421T131053
CREATED:20221201T155342Z
LAST-MODIFIED:20250731T140016Z
UID:10021559-1806390000-1806390000@firstumcmuncy.org
SUMMARY:Men’s Breakfast – Cracker Barrel
DESCRIPTION:
URL:https://firstumcmuncy.org/event/mens-breakfast-cracker-barrel-2024-01-02/2027-03-30/
END:VEVENT
BEGIN:VEVENT
DTSTART;TZID=America/New_York:20270406T070000
DTEND;TZID=America/New_York:20270406T070000
DTSTAMP:20260421T131053
CREATED:20221201T155342Z
LAST-MODIFIED:20250731T140016Z
UID:10021560-1806994800-1806994800@firstumcmuncy.org
SUMMARY:Men’s Breakfast – Cracker Barrel
DESCRIPTION:
URL:https://firstumcmuncy.org/event/mens-breakfast-cracker-barrel-2024-01-02/2027-04-06/
END:VEVENT
BEGIN:VEVENT
DTSTART;TZID=America/New_York:20270413T070000
DTEND;TZID=America/New_York:20270413T070000
DTSTAMP:20260421T131053
CREATED:20221201T155342Z
LAST-MODIFIED:20250731T140016Z
UID:10021561-1807599600-1807599600@firstumcmuncy.org
SUMMARY:Men’s Breakfast – Cracker Barrel
DESCRIPTION:
URL:https://firstumcmuncy.org/event/mens-breakfast-cracker-barrel-2024-01-02/2027-04-13/
END:VEVENT
BEGIN:VEVENT
DTSTART;TZID=America/New_York:20270420T070000
DTEND;TZID=America/New_York:20270420T070000
DTSTAMP:20260421T131053
CREATED:20221201T155342Z
LAST-MODIFIED:20250731T140016Z
UID:10021562-1808204400-1808204400@firstumcmuncy.org
SUMMARY:Men’s Breakfast – Cracker Barrel
DESCRIPTION:
URL:https://firstumcmuncy.org/event/mens-breakfast-cracker-barrel-2024-01-02/2027-04-20/
END:VEVENT
BEGIN:VEVENT
DTSTART;TZID=America/New_York:20270427T070000
DTEND;TZID=America/New_York:20270427T070000
DTSTAMP:20260421T131053
CREATED:20221201T155342Z
LAST-MODIFIED:20250731T140016Z
UID:10021563-1808809200-1808809200@firstumcmuncy.org
SUMMARY:Men’s Breakfast – Cracker Barrel
DESCRIPTION:
URL:https://firstumcmuncy.org/event/mens-breakfast-cracker-barrel-2024-01-02/2027-04-27/
END:VEVENT
BEGIN:VEVENT
DTSTART;TZID=America/New_York:20270504T070000
DTEND;TZID=America/New_York:20270504T070000
DTSTAMP:20260421T131053
CREATED:20221201T155342Z
LAST-MODIFIED:20250731T140016Z
UID:10021564-1809414000-1809414000@firstumcmuncy.org
SUMMARY:Men’s Breakfast – Cracker Barrel
DESCRIPTION:
URL:https://firstumcmuncy.org/event/mens-breakfast-cracker-barrel-2024-01-02/2027-05-04/
END:VEVENT
BEGIN:VEVENT
DTSTART;TZID=America/New_York:20270511T070000
DTEND;TZID=America/New_York:20270511T070000
DTSTAMP:20260421T131053
CREATED:20221201T155342Z
LAST-MODIFIED:20250731T140016Z
UID:10021565-1810018800-1810018800@firstumcmuncy.org
SUMMARY:Men’s Breakfast – Cracker Barrel
DESCRIPTION:
URL:https://firstumcmuncy.org/event/mens-breakfast-cracker-barrel-2024-01-02/2027-05-11/
END:VEVENT
BEGIN:VEVENT
DTSTART;TZID=America/New_York:20270518T070000
DTEND;TZID=America/New_York:20270518T070000
DTSTAMP:20260421T131053
CREATED:20221201T155342Z
LAST-MODIFIED:20250731T140016Z
UID:10021566-1810623600-1810623600@firstumcmuncy.org
SUMMARY:Men’s Breakfast – Cracker Barrel
DESCRIPTION:
URL:https://firstumcmuncy.org/event/mens-breakfast-cracker-barrel-2024-01-02/2027-05-18/
END:VEVENT
BEGIN:VEVENT
DTSTART;TZID=America/New_York:20270525T070000
DTEND;TZID=America/New_York:20270525T070000
DTSTAMP:20260421T131053
CREATED:20221201T155342Z
LAST-MODIFIED:20250731T140016Z
UID:10021567-1811228400-1811228400@firstumcmuncy.org
SUMMARY:Men’s Breakfast – Cracker Barrel
DESCRIPTION:
URL:https://firstumcmuncy.org/event/mens-breakfast-cracker-barrel-2024-01-02/2027-05-25/
END:VEVENT
BEGIN:VEVENT
DTSTART;TZID=America/New_York:20270601T070000
DTEND;TZID=America/New_York:20270601T070000
DTSTAMP:20260421T131053
CREATED:20221201T155342Z
LAST-MODIFIED:20250731T140016Z
UID:10021568-1811833200-1811833200@firstumcmuncy.org
SUMMARY:Men’s Breakfast – Cracker Barrel
DESCRIPTION:
URL:https://firstumcmuncy.org/event/mens-breakfast-cracker-barrel-2024-01-02/2027-06-01/
END:VEVENT
BEGIN:VEVENT
DTSTART;TZID=America/New_York:20270608T070000
DTEND;TZID=America/New_York:20270608T070000
DTSTAMP:20260421T131053
CREATED:20221201T155342Z
LAST-MODIFIED:20250731T140016Z
UID:10021569-1812438000-1812438000@firstumcmuncy.org
SUMMARY:Men’s Breakfast – Cracker Barrel
DESCRIPTION:
URL:https://firstumcmuncy.org/event/mens-breakfast-cracker-barrel-2024-01-02/2027-06-08/
END:VEVENT
BEGIN:VEVENT
DTSTART;TZID=America/New_York:20270615T070000
DTEND;TZID=America/New_York:20270615T070000
DTSTAMP:20260421T131053
CREATED:20221201T155342Z
LAST-MODIFIED:20250731T140016Z
UID:10021570-1813042800-1813042800@firstumcmuncy.org
SUMMARY:Men’s Breakfast – Cracker Barrel
DESCRIPTION:
URL:https://firstumcmuncy.org/event/mens-breakfast-cracker-barrel-2024-01-02/2027-06-15/
END:VEVENT
END:VCALENDAR