BEGIN:VCALENDAR
VERSION:2.0
PRODID:-//Muncy First United Methodist - ECPv6.11.2//NONSGML v1.0//EN
CALSCALE:GREGORIAN
METHOD:PUBLISH
X-WR-CALNAME:Muncy First United Methodist
X-ORIGINAL-URL:https://firstumcmuncy.org
X-WR-CALDESC:Events for Muncy First United Methodist
REFRESH-INTERVAL;VALUE=DURATION:PT1H
X-Robots-Tag:noindex
X-PUBLISHED-TTL:PT1H
BEGIN:VTIMEZONE
TZID:America/New_York
BEGIN:DAYLIGHT
TZOFFSETFROM:-0500
TZOFFSETTO:-0400
TZNAME:EDT
DTSTART:20270314T070000
END:DAYLIGHT
BEGIN:STANDARD
TZOFFSETFROM:-0400
TZOFFSETTO:-0500
TZNAME:EST
DTSTART:20271107T060000
END:STANDARD
END:VTIMEZONE
BEGIN:VEVENT
DTSTART;TZID=America/New_York:20270413T070000
DTEND;TZID=America/New_York:20270413T070000
DTSTAMP:20260421T162225
CREATED:20221201T155342Z
LAST-MODIFIED:20250731T140016Z
UID:10021561-1807599600-1807599600@firstumcmuncy.org
SUMMARY:Men’s Breakfast – Cracker Barrel
DESCRIPTION:
URL:https://firstumcmuncy.org/event/mens-breakfast-cracker-barrel-2024-01-02/2027-04-13/
END:VEVENT
BEGIN:VEVENT
DTSTART;TZID=America/New_York:20270420T070000
DTEND;TZID=America/New_York:20270420T070000
DTSTAMP:20260421T162225
CREATED:20221201T155342Z
LAST-MODIFIED:20250731T140016Z
UID:10021562-1808204400-1808204400@firstumcmuncy.org
SUMMARY:Men’s Breakfast – Cracker Barrel
DESCRIPTION:
URL:https://firstumcmuncy.org/event/mens-breakfast-cracker-barrel-2024-01-02/2027-04-20/
END:VEVENT
BEGIN:VEVENT
DTSTART;TZID=America/New_York:20270427T070000
DTEND;TZID=America/New_York:20270427T070000
DTSTAMP:20260421T162225
CREATED:20221201T155342Z
LAST-MODIFIED:20250731T140016Z
UID:10021563-1808809200-1808809200@firstumcmuncy.org
SUMMARY:Men’s Breakfast – Cracker Barrel
DESCRIPTION:
URL:https://firstumcmuncy.org/event/mens-breakfast-cracker-barrel-2024-01-02/2027-04-27/
END:VEVENT
BEGIN:VEVENT
DTSTART;TZID=America/New_York:20270504T070000
DTEND;TZID=America/New_York:20270504T070000
DTSTAMP:20260421T162225
CREATED:20221201T155342Z
LAST-MODIFIED:20250731T140016Z
UID:10021564-1809414000-1809414000@firstumcmuncy.org
SUMMARY:Men’s Breakfast – Cracker Barrel
DESCRIPTION:
URL:https://firstumcmuncy.org/event/mens-breakfast-cracker-barrel-2024-01-02/2027-05-04/
END:VEVENT
BEGIN:VEVENT
DTSTART;TZID=America/New_York:20270511T070000
DTEND;TZID=America/New_York:20270511T070000
DTSTAMP:20260421T162225
CREATED:20221201T155342Z
LAST-MODIFIED:20250731T140016Z
UID:10021565-1810018800-1810018800@firstumcmuncy.org
SUMMARY:Men’s Breakfast – Cracker Barrel
DESCRIPTION:
URL:https://firstumcmuncy.org/event/mens-breakfast-cracker-barrel-2024-01-02/2027-05-11/
END:VEVENT
BEGIN:VEVENT
DTSTART;TZID=America/New_York:20270518T070000
DTEND;TZID=America/New_York:20270518T070000
DTSTAMP:20260421T162225
CREATED:20221201T155342Z
LAST-MODIFIED:20250731T140016Z
UID:10021566-1810623600-1810623600@firstumcmuncy.org
SUMMARY:Men’s Breakfast – Cracker Barrel
DESCRIPTION:
URL:https://firstumcmuncy.org/event/mens-breakfast-cracker-barrel-2024-01-02/2027-05-18/
END:VEVENT
BEGIN:VEVENT
DTSTART;TZID=America/New_York:20270525T070000
DTEND;TZID=America/New_York:20270525T070000
DTSTAMP:20260421T162225
CREATED:20221201T155342Z
LAST-MODIFIED:20250731T140016Z
UID:10021567-1811228400-1811228400@firstumcmuncy.org
SUMMARY:Men’s Breakfast – Cracker Barrel
DESCRIPTION:
URL:https://firstumcmuncy.org/event/mens-breakfast-cracker-barrel-2024-01-02/2027-05-25/
END:VEVENT
BEGIN:VEVENT
DTSTART;TZID=America/New_York:20270601T070000
DTEND;TZID=America/New_York:20270601T070000
DTSTAMP:20260421T162225
CREATED:20221201T155342Z
LAST-MODIFIED:20250731T140016Z
UID:10021568-1811833200-1811833200@firstumcmuncy.org
SUMMARY:Men’s Breakfast – Cracker Barrel
DESCRIPTION:
URL:https://firstumcmuncy.org/event/mens-breakfast-cracker-barrel-2024-01-02/2027-06-01/
END:VEVENT
BEGIN:VEVENT
DTSTART;TZID=America/New_York:20270608T070000
DTEND;TZID=America/New_York:20270608T070000
DTSTAMP:20260421T162225
CREATED:20221201T155342Z
LAST-MODIFIED:20250731T140016Z
UID:10021569-1812438000-1812438000@firstumcmuncy.org
SUMMARY:Men’s Breakfast – Cracker Barrel
DESCRIPTION:
URL:https://firstumcmuncy.org/event/mens-breakfast-cracker-barrel-2024-01-02/2027-06-08/
END:VEVENT
BEGIN:VEVENT
DTSTART;TZID=America/New_York:20270615T070000
DTEND;TZID=America/New_York:20270615T070000
DTSTAMP:20260421T162225
CREATED:20221201T155342Z
LAST-MODIFIED:20250731T140016Z
UID:10021570-1813042800-1813042800@firstumcmuncy.org
SUMMARY:Men’s Breakfast – Cracker Barrel
DESCRIPTION:
URL:https://firstumcmuncy.org/event/mens-breakfast-cracker-barrel-2024-01-02/2027-06-15/
END:VEVENT
BEGIN:VEVENT
DTSTART;TZID=America/New_York:20270622T070000
DTEND;TZID=America/New_York:20270622T070000
DTSTAMP:20260421T162225
CREATED:20221201T155342Z
LAST-MODIFIED:20250731T140016Z
UID:10021571-1813647600-1813647600@firstumcmuncy.org
SUMMARY:Men’s Breakfast – Cracker Barrel
DESCRIPTION:
URL:https://firstumcmuncy.org/event/mens-breakfast-cracker-barrel-2024-01-02/2027-06-22/
END:VEVENT
BEGIN:VEVENT
DTSTART;TZID=America/New_York:20270629T070000
DTEND;TZID=America/New_York:20270629T070000
DTSTAMP:20260421T162225
CREATED:20221201T155342Z
LAST-MODIFIED:20250731T140016Z
UID:10021572-1814252400-1814252400@firstumcmuncy.org
SUMMARY:Men’s Breakfast – Cracker Barrel
DESCRIPTION:
URL:https://firstumcmuncy.org/event/mens-breakfast-cracker-barrel-2024-01-02/2027-06-29/
END:VEVENT
BEGIN:VEVENT
DTSTART;TZID=America/New_York:20270706T070000
DTEND;TZID=America/New_York:20270706T070000
DTSTAMP:20260421T162225
CREATED:20221201T155342Z
LAST-MODIFIED:20250731T140016Z
UID:10021573-1814857200-1814857200@firstumcmuncy.org
SUMMARY:Men’s Breakfast – Cracker Barrel
DESCRIPTION:
URL:https://firstumcmuncy.org/event/mens-breakfast-cracker-barrel-2024-01-02/2027-07-06/
END:VEVENT
BEGIN:VEVENT
DTSTART;TZID=America/New_York:20270713T070000
DTEND;TZID=America/New_York:20270713T070000
DTSTAMP:20260421T162225
CREATED:20221201T155342Z
LAST-MODIFIED:20250731T140016Z
UID:10021574-1815462000-1815462000@firstumcmuncy.org
SUMMARY:Men’s Breakfast – Cracker Barrel
DESCRIPTION:
URL:https://firstumcmuncy.org/event/mens-breakfast-cracker-barrel-2024-01-02/2027-07-13/
END:VEVENT
BEGIN:VEVENT
DTSTART;TZID=America/New_York:20270720T070000
DTEND;TZID=America/New_York:20270720T070000
DTSTAMP:20260421T162225
CREATED:20221201T155342Z
LAST-MODIFIED:20250731T140016Z
UID:10021575-1816066800-1816066800@firstumcmuncy.org
SUMMARY:Men’s Breakfast – Cracker Barrel
DESCRIPTION:
URL:https://firstumcmuncy.org/event/mens-breakfast-cracker-barrel-2024-01-02/2027-07-20/
END:VEVENT
BEGIN:VEVENT
DTSTART;TZID=America/New_York:20270727T070000
DTEND;TZID=America/New_York:20270727T070000
DTSTAMP:20260421T162225
CREATED:20221201T155342Z
LAST-MODIFIED:20250731T140016Z
UID:10021576-1816671600-1816671600@firstumcmuncy.org
SUMMARY:Men’s Breakfast – Cracker Barrel
DESCRIPTION:
URL:https://firstumcmuncy.org/event/mens-breakfast-cracker-barrel-2024-01-02/2027-07-27/
END:VEVENT
BEGIN:VEVENT
DTSTART;TZID=America/New_York:20270803T070000
DTEND;TZID=America/New_York:20270803T070000
DTSTAMP:20260421T162225
CREATED:20221201T155342Z
LAST-MODIFIED:20250731T140016Z
UID:10021577-1817276400-1817276400@firstumcmuncy.org
SUMMARY:Men’s Breakfast – Cracker Barrel
DESCRIPTION:
URL:https://firstumcmuncy.org/event/mens-breakfast-cracker-barrel-2024-01-02/2027-08-03/
END:VEVENT
BEGIN:VEVENT
DTSTART;TZID=America/New_York:20270810T070000
DTEND;TZID=America/New_York:20270810T070000
DTSTAMP:20260421T162225
CREATED:20221201T155342Z
LAST-MODIFIED:20250731T140016Z
UID:10021578-1817881200-1817881200@firstumcmuncy.org
SUMMARY:Men’s Breakfast – Cracker Barrel
DESCRIPTION:
URL:https://firstumcmuncy.org/event/mens-breakfast-cracker-barrel-2024-01-02/2027-08-10/
END:VEVENT
BEGIN:VEVENT
DTSTART;TZID=America/New_York:20270817T070000
DTEND;TZID=America/New_York:20270817T070000
DTSTAMP:20260421T162225
CREATED:20221201T155342Z
LAST-MODIFIED:20250731T140016Z
UID:10021579-1818486000-1818486000@firstumcmuncy.org
SUMMARY:Men’s Breakfast – Cracker Barrel
DESCRIPTION:
URL:https://firstumcmuncy.org/event/mens-breakfast-cracker-barrel-2024-01-02/2027-08-17/
END:VEVENT
BEGIN:VEVENT
DTSTART;TZID=America/New_York:20270824T070000
DTEND;TZID=America/New_York:20270824T070000
DTSTAMP:20260421T162225
CREATED:20221201T155342Z
LAST-MODIFIED:20250731T140016Z
UID:10021580-1819090800-1819090800@firstumcmuncy.org
SUMMARY:Men’s Breakfast – Cracker Barrel
DESCRIPTION:
URL:https://firstumcmuncy.org/event/mens-breakfast-cracker-barrel-2024-01-02/2027-08-24/
END:VEVENT
BEGIN:VEVENT
DTSTART;TZID=America/New_York:20270831T070000
DTEND;TZID=America/New_York:20270831T070000
DTSTAMP:20260421T162225
CREATED:20221201T155342Z
LAST-MODIFIED:20250731T140016Z
UID:10021581-1819695600-1819695600@firstumcmuncy.org
SUMMARY:Men’s Breakfast – Cracker Barrel
DESCRIPTION:
URL:https://firstumcmuncy.org/event/mens-breakfast-cracker-barrel-2024-01-02/2027-08-31/
END:VEVENT
BEGIN:VEVENT
DTSTART;TZID=America/New_York:20270907T070000
DTEND;TZID=America/New_York:20270907T070000
DTSTAMP:20260421T162225
CREATED:20221201T155342Z
LAST-MODIFIED:20250731T140016Z
UID:10021582-1820300400-1820300400@firstumcmuncy.org
SUMMARY:Men’s Breakfast – Cracker Barrel
DESCRIPTION:
URL:https://firstumcmuncy.org/event/mens-breakfast-cracker-barrel-2024-01-02/2027-09-07/
END:VEVENT
BEGIN:VEVENT
DTSTART;TZID=America/New_York:20270914T070000
DTEND;TZID=America/New_York:20270914T070000
DTSTAMP:20260421T162225
CREATED:20221201T155342Z
LAST-MODIFIED:20250731T140016Z
UID:10021583-1820905200-1820905200@firstumcmuncy.org
SUMMARY:Men’s Breakfast – Cracker Barrel
DESCRIPTION:
URL:https://firstumcmuncy.org/event/mens-breakfast-cracker-barrel-2024-01-02/2027-09-14/
END:VEVENT
BEGIN:VEVENT
DTSTART;TZID=America/New_York:20270921T070000
DTEND;TZID=America/New_York:20270921T070000
DTSTAMP:20260421T162225
CREATED:20221201T155342Z
LAST-MODIFIED:20250731T140016Z
UID:10021584-1821510000-1821510000@firstumcmuncy.org
SUMMARY:Men’s Breakfast – Cracker Barrel
DESCRIPTION:
URL:https://firstumcmuncy.org/event/mens-breakfast-cracker-barrel-2024-01-02/2027-09-21/
END:VEVENT
BEGIN:VEVENT
DTSTART;TZID=America/New_York:20270928T070000
DTEND;TZID=America/New_York:20270928T070000
DTSTAMP:20260421T162225
CREATED:20221201T155342Z
LAST-MODIFIED:20250731T140016Z
UID:10021585-1822114800-1822114800@firstumcmuncy.org
SUMMARY:Men’s Breakfast – Cracker Barrel
DESCRIPTION:
URL:https://firstumcmuncy.org/event/mens-breakfast-cracker-barrel-2024-01-02/2027-09-28/
END:VEVENT
BEGIN:VEVENT
DTSTART;TZID=America/New_York:20271005T070000
DTEND;TZID=America/New_York:20271005T070000
DTSTAMP:20260421T162225
CREATED:20221201T155342Z
LAST-MODIFIED:20250731T140016Z
UID:10021586-1822719600-1822719600@firstumcmuncy.org
SUMMARY:Men’s Breakfast – Cracker Barrel
DESCRIPTION:
URL:https://firstumcmuncy.org/event/mens-breakfast-cracker-barrel-2024-01-02/2027-10-05/
END:VEVENT
BEGIN:VEVENT
DTSTART;TZID=America/New_York:20271012T070000
DTEND;TZID=America/New_York:20271012T070000
DTSTAMP:20260421T162225
CREATED:20221201T155342Z
LAST-MODIFIED:20250731T140016Z
UID:10021587-1823324400-1823324400@firstumcmuncy.org
SUMMARY:Men’s Breakfast – Cracker Barrel
DESCRIPTION:
URL:https://firstumcmuncy.org/event/mens-breakfast-cracker-barrel-2024-01-02/2027-10-12/
END:VEVENT
BEGIN:VEVENT
DTSTART;TZID=America/New_York:20271019T070000
DTEND;TZID=America/New_York:20271019T070000
DTSTAMP:20260421T162225
CREATED:20221201T155342Z
LAST-MODIFIED:20250731T140016Z
UID:10021588-1823929200-1823929200@firstumcmuncy.org
SUMMARY:Men’s Breakfast – Cracker Barrel
DESCRIPTION:
URL:https://firstumcmuncy.org/event/mens-breakfast-cracker-barrel-2024-01-02/2027-10-19/
END:VEVENT
BEGIN:VEVENT
DTSTART;TZID=America/New_York:20271026T070000
DTEND;TZID=America/New_York:20271026T070000
DTSTAMP:20260421T162225
CREATED:20221201T155342Z
LAST-MODIFIED:20250731T140016Z
UID:10021589-1824534000-1824534000@firstumcmuncy.org
SUMMARY:Men’s Breakfast – Cracker Barrel
DESCRIPTION:
URL:https://firstumcmuncy.org/event/mens-breakfast-cracker-barrel-2024-01-02/2027-10-26/
END:VEVENT
BEGIN:VEVENT
DTSTART;TZID=America/New_York:20271102T070000
DTEND;TZID=America/New_York:20271102T070000
DTSTAMP:20260421T162225
CREATED:20221201T155342Z
LAST-MODIFIED:20250731T140016Z
UID:10021590-1825138800-1825138800@firstumcmuncy.org
SUMMARY:Men’s Breakfast – Cracker Barrel
DESCRIPTION:
URL:https://firstumcmuncy.org/event/mens-breakfast-cracker-barrel-2024-01-02/2027-11-02/
END:VEVENT
END:VCALENDAR