BEGIN:VCALENDAR
VERSION:2.0
PRODID:-//Muncy First United Methodist - ECPv6.11.2//NONSGML v1.0//EN
CALSCALE:GREGORIAN
METHOD:PUBLISH
X-ORIGINAL-URL:https://firstumcmuncy.org
X-WR-CALDESC:Events for Muncy First United Methodist
REFRESH-INTERVAL;VALUE=DURATION:PT1H
X-Robots-Tag:noindex
X-PUBLISHED-TTL:PT1H
BEGIN:VTIMEZONE
TZID:America/New_York
BEGIN:DAYLIGHT
TZOFFSETFROM:-0500
TZOFFSETTO:-0400
TZNAME:EDT
DTSTART:20260308T070000
END:DAYLIGHT
BEGIN:STANDARD
TZOFFSETFROM:-0400
TZOFFSETTO:-0500
TZNAME:EST
DTSTART:20261101T060000
END:STANDARD
BEGIN:DAYLIGHT
TZOFFSETFROM:-0500
TZOFFSETTO:-0400
TZNAME:EDT
DTSTART:20270314T070000
END:DAYLIGHT
BEGIN:STANDARD
TZOFFSETFROM:-0400
TZOFFSETTO:-0500
TZNAME:EST
DTSTART:20271107T060000
END:STANDARD
END:VTIMEZONE
BEGIN:VEVENT
DTSTART;TZID=America/New_York:20261016T190000
DTEND;TZID=America/New_York:20261016T190000
DTSTAMP:20260422T175058
CREATED:20250306T103329Z
LAST-MODIFIED:20250731T140816Z
UID:10022030-1792177200-1792177200@firstumcmuncy.org
SUMMARY:Narcotics Anonymous Meeting – Room 107
DESCRIPTION:
URL:https://firstumcmuncy.org/event/narcotics-anonymous-meeting-room-107-3/2026-10-16/
END:VEVENT
BEGIN:VEVENT
DTSTART;TZID=America/New_York:20261020T190000
DTEND;TZID=America/New_York:20261020T190000
DTSTAMP:20260422T175058
CREATED:20250306T103329Z
LAST-MODIFIED:20250731T140816Z
UID:10022031-1792522800-1792522800@firstumcmuncy.org
SUMMARY:Narcotics Anonymous Meeting – Room 107
DESCRIPTION:
URL:https://firstumcmuncy.org/event/narcotics-anonymous-meeting-room-107-3/2026-10-20/
END:VEVENT
BEGIN:VEVENT
DTSTART;TZID=America/New_York:20261023T190000
DTEND;TZID=America/New_York:20261023T190000
DTSTAMP:20260422T175058
CREATED:20250306T103329Z
LAST-MODIFIED:20250731T140816Z
UID:10022032-1792782000-1792782000@firstumcmuncy.org
SUMMARY:Narcotics Anonymous Meeting – Room 107
DESCRIPTION:
URL:https://firstumcmuncy.org/event/narcotics-anonymous-meeting-room-107-3/2026-10-23/
END:VEVENT
BEGIN:VEVENT
DTSTART;TZID=America/New_York:20261027T190000
DTEND;TZID=America/New_York:20261027T190000
DTSTAMP:20260422T175058
CREATED:20250306T103329Z
LAST-MODIFIED:20250731T140816Z
UID:10022033-1793127600-1793127600@firstumcmuncy.org
SUMMARY:Narcotics Anonymous Meeting – Room 107
DESCRIPTION:
URL:https://firstumcmuncy.org/event/narcotics-anonymous-meeting-room-107-3/2026-10-27/
END:VEVENT
BEGIN:VEVENT
DTSTART;TZID=America/New_York:20261030T190000
DTEND;TZID=America/New_York:20261030T190000
DTSTAMP:20260422T175058
CREATED:20250306T103329Z
LAST-MODIFIED:20250731T140816Z
UID:10022034-1793386800-1793386800@firstumcmuncy.org
SUMMARY:Narcotics Anonymous Meeting – Room 107
DESCRIPTION:
URL:https://firstumcmuncy.org/event/narcotics-anonymous-meeting-room-107-3/2026-10-30/
END:VEVENT
BEGIN:VEVENT
DTSTART;TZID=America/New_York:20261103T190000
DTEND;TZID=America/New_York:20261103T190000
DTSTAMP:20260422T175058
CREATED:20250306T103329Z
LAST-MODIFIED:20250731T140816Z
UID:10022035-1793732400-1793732400@firstumcmuncy.org
SUMMARY:Narcotics Anonymous Meeting – Room 107
DESCRIPTION:
URL:https://firstumcmuncy.org/event/narcotics-anonymous-meeting-room-107-3/2026-11-03/
END:VEVENT
BEGIN:VEVENT
DTSTART;TZID=America/New_York:20261106T190000
DTEND;TZID=America/New_York:20261106T190000
DTSTAMP:20260422T175058
CREATED:20250306T103329Z
LAST-MODIFIED:20250731T140816Z
UID:10022036-1793991600-1793991600@firstumcmuncy.org
SUMMARY:Narcotics Anonymous Meeting – Room 107
DESCRIPTION:
URL:https://firstumcmuncy.org/event/narcotics-anonymous-meeting-room-107-3/2026-11-06/
END:VEVENT
BEGIN:VEVENT
DTSTART;TZID=America/New_York:20261110T190000
DTEND;TZID=America/New_York:20261110T190000
DTSTAMP:20260422T175058
CREATED:20250306T103329Z
LAST-MODIFIED:20250731T140816Z
UID:10022037-1794337200-1794337200@firstumcmuncy.org
SUMMARY:Narcotics Anonymous Meeting – Room 107
DESCRIPTION:
URL:https://firstumcmuncy.org/event/narcotics-anonymous-meeting-room-107-3/2026-11-10/
END:VEVENT
BEGIN:VEVENT
DTSTART;TZID=America/New_York:20261113T190000
DTEND;TZID=America/New_York:20261113T190000
DTSTAMP:20260422T175058
CREATED:20250306T103329Z
LAST-MODIFIED:20250731T140816Z
UID:10022038-1794596400-1794596400@firstumcmuncy.org
SUMMARY:Narcotics Anonymous Meeting – Room 107
DESCRIPTION:
URL:https://firstumcmuncy.org/event/narcotics-anonymous-meeting-room-107-3/2026-11-13/
END:VEVENT
BEGIN:VEVENT
DTSTART;TZID=America/New_York:20261117T190000
DTEND;TZID=America/New_York:20261117T190000
DTSTAMP:20260422T175058
CREATED:20250306T103329Z
LAST-MODIFIED:20250731T140816Z
UID:10022039-1794942000-1794942000@firstumcmuncy.org
SUMMARY:Narcotics Anonymous Meeting – Room 107
DESCRIPTION:
URL:https://firstumcmuncy.org/event/narcotics-anonymous-meeting-room-107-3/2026-11-17/
END:VEVENT
BEGIN:VEVENT
DTSTART;TZID=America/New_York:20261120T190000
DTEND;TZID=America/New_York:20261120T190000
DTSTAMP:20260422T175058
CREATED:20250306T103329Z
LAST-MODIFIED:20250731T140816Z
UID:10022040-1795201200-1795201200@firstumcmuncy.org
SUMMARY:Narcotics Anonymous Meeting – Room 107
DESCRIPTION:
URL:https://firstumcmuncy.org/event/narcotics-anonymous-meeting-room-107-3/2026-11-20/
END:VEVENT
BEGIN:VEVENT
DTSTART;TZID=America/New_York:20261124T190000
DTEND;TZID=America/New_York:20261124T190000
DTSTAMP:20260422T175058
CREATED:20250306T103329Z
LAST-MODIFIED:20250731T140816Z
UID:10022041-1795546800-1795546800@firstumcmuncy.org
SUMMARY:Narcotics Anonymous Meeting – Room 107
DESCRIPTION:
URL:https://firstumcmuncy.org/event/narcotics-anonymous-meeting-room-107-3/2026-11-24/
END:VEVENT
BEGIN:VEVENT
DTSTART;TZID=America/New_York:20261127T190000
DTEND;TZID=America/New_York:20261127T190000
DTSTAMP:20260422T175058
CREATED:20250306T103329Z
LAST-MODIFIED:20250731T140816Z
UID:10022042-1795806000-1795806000@firstumcmuncy.org
SUMMARY:Narcotics Anonymous Meeting – Room 107
DESCRIPTION:
URL:https://firstumcmuncy.org/event/narcotics-anonymous-meeting-room-107-3/2026-11-27/
END:VEVENT
BEGIN:VEVENT
DTSTART;TZID=America/New_York:20261201T190000
DTEND;TZID=America/New_York:20261201T190000
DTSTAMP:20260422T175058
CREATED:20250306T103329Z
LAST-MODIFIED:20250731T140816Z
UID:10022043-1796151600-1796151600@firstumcmuncy.org
SUMMARY:Narcotics Anonymous Meeting – Room 107
DESCRIPTION:
URL:https://firstumcmuncy.org/event/narcotics-anonymous-meeting-room-107-3/2026-12-01/
END:VEVENT
BEGIN:VEVENT
DTSTART;TZID=America/New_York:20261204T190000
DTEND;TZID=America/New_York:20261204T190000
DTSTAMP:20260422T175058
CREATED:20250306T103329Z
LAST-MODIFIED:20250731T140816Z
UID:10022044-1796410800-1796410800@firstumcmuncy.org
SUMMARY:Narcotics Anonymous Meeting – Room 107
DESCRIPTION:
URL:https://firstumcmuncy.org/event/narcotics-anonymous-meeting-room-107-3/2026-12-04/
END:VEVENT
BEGIN:VEVENT
DTSTART;TZID=America/New_York:20261208T190000
DTEND;TZID=America/New_York:20261208T190000
DTSTAMP:20260422T175058
CREATED:20250306T103329Z
LAST-MODIFIED:20250731T140816Z
UID:10022045-1796756400-1796756400@firstumcmuncy.org
SUMMARY:Narcotics Anonymous Meeting – Room 107
DESCRIPTION:
URL:https://firstumcmuncy.org/event/narcotics-anonymous-meeting-room-107-3/2026-12-08/
END:VEVENT
BEGIN:VEVENT
DTSTART;TZID=America/New_York:20261211T190000
DTEND;TZID=America/New_York:20261211T190000
DTSTAMP:20260422T175058
CREATED:20250306T103329Z
LAST-MODIFIED:20250731T140816Z
UID:10022046-1797015600-1797015600@firstumcmuncy.org
SUMMARY:Narcotics Anonymous Meeting – Room 107
DESCRIPTION:
URL:https://firstumcmuncy.org/event/narcotics-anonymous-meeting-room-107-3/2026-12-11/
END:VEVENT
BEGIN:VEVENT
DTSTART;TZID=America/New_York:20261215T190000
DTEND;TZID=America/New_York:20261215T190000
DTSTAMP:20260422T175058
CREATED:20250306T103329Z
LAST-MODIFIED:20250731T140816Z
UID:10022047-1797361200-1797361200@firstumcmuncy.org
SUMMARY:Narcotics Anonymous Meeting – Room 107
DESCRIPTION:
URL:https://firstumcmuncy.org/event/narcotics-anonymous-meeting-room-107-3/2026-12-15/
END:VEVENT
BEGIN:VEVENT
DTSTART;TZID=America/New_York:20261218T190000
DTEND;TZID=America/New_York:20261218T190000
DTSTAMP:20260422T175058
CREATED:20250306T103329Z
LAST-MODIFIED:20250731T140816Z
UID:10022048-1797620400-1797620400@firstumcmuncy.org
SUMMARY:Narcotics Anonymous Meeting – Room 107
DESCRIPTION:
URL:https://firstumcmuncy.org/event/narcotics-anonymous-meeting-room-107-3/2026-12-18/
END:VEVENT
BEGIN:VEVENT
DTSTART;TZID=America/New_York:20261222T190000
DTEND;TZID=America/New_York:20261222T190000
DTSTAMP:20260422T175058
CREATED:20250306T103329Z
LAST-MODIFIED:20250731T140816Z
UID:10022049-1797966000-1797966000@firstumcmuncy.org
SUMMARY:Narcotics Anonymous Meeting – Room 107
DESCRIPTION:
URL:https://firstumcmuncy.org/event/narcotics-anonymous-meeting-room-107-3/2026-12-22/
END:VEVENT
BEGIN:VEVENT
DTSTART;TZID=America/New_York:20261225T190000
DTEND;TZID=America/New_York:20261225T190000
DTSTAMP:20260422T175058
CREATED:20250306T103329Z
LAST-MODIFIED:20250731T140816Z
UID:10022050-1798225200-1798225200@firstumcmuncy.org
SUMMARY:Narcotics Anonymous Meeting – Room 107
DESCRIPTION:
URL:https://firstumcmuncy.org/event/narcotics-anonymous-meeting-room-107-3/2026-12-25/
END:VEVENT
BEGIN:VEVENT
DTSTART;TZID=America/New_York:20261229T190000
DTEND;TZID=America/New_York:20261229T190000
DTSTAMP:20260422T175058
CREATED:20250306T103329Z
LAST-MODIFIED:20250731T140816Z
UID:10022051-1798570800-1798570800@firstumcmuncy.org
SUMMARY:Narcotics Anonymous Meeting – Room 107
DESCRIPTION:
URL:https://firstumcmuncy.org/event/narcotics-anonymous-meeting-room-107-3/2026-12-29/
END:VEVENT
BEGIN:VEVENT
DTSTART;TZID=America/New_York:20270101T190000
DTEND;TZID=America/New_York:20270101T190000
DTSTAMP:20260422T175058
CREATED:20250306T103329Z
LAST-MODIFIED:20250731T140816Z
UID:10022052-1798830000-1798830000@firstumcmuncy.org
SUMMARY:Narcotics Anonymous Meeting – Room 107
DESCRIPTION:
URL:https://firstumcmuncy.org/event/narcotics-anonymous-meeting-room-107-3/2027-01-01/
END:VEVENT
BEGIN:VEVENT
DTSTART;TZID=America/New_York:20270105T190000
DTEND;TZID=America/New_York:20270105T190000
DTSTAMP:20260422T175058
CREATED:20250306T103329Z
LAST-MODIFIED:20250731T140816Z
UID:10022053-1799175600-1799175600@firstumcmuncy.org
SUMMARY:Narcotics Anonymous Meeting – Room 107
DESCRIPTION:
URL:https://firstumcmuncy.org/event/narcotics-anonymous-meeting-room-107-3/2027-01-05/
END:VEVENT
BEGIN:VEVENT
DTSTART;TZID=America/New_York:20270108T190000
DTEND;TZID=America/New_York:20270108T190000
DTSTAMP:20260422T175058
CREATED:20250306T103329Z
LAST-MODIFIED:20250731T140816Z
UID:10022054-1799434800-1799434800@firstumcmuncy.org
SUMMARY:Narcotics Anonymous Meeting – Room 107
DESCRIPTION:
URL:https://firstumcmuncy.org/event/narcotics-anonymous-meeting-room-107-3/2027-01-08/
END:VEVENT
BEGIN:VEVENT
DTSTART;TZID=America/New_York:20270112T190000
DTEND;TZID=America/New_York:20270112T190000
DTSTAMP:20260422T175058
CREATED:20250306T103329Z
LAST-MODIFIED:20250731T140816Z
UID:10022055-1799780400-1799780400@firstumcmuncy.org
SUMMARY:Narcotics Anonymous Meeting – Room 107
DESCRIPTION:
URL:https://firstumcmuncy.org/event/narcotics-anonymous-meeting-room-107-3/2027-01-12/
END:VEVENT
BEGIN:VEVENT
DTSTART;TZID=America/New_York:20270115T190000
DTEND;TZID=America/New_York:20270115T190000
DTSTAMP:20260422T175058
CREATED:20250306T103329Z
LAST-MODIFIED:20250731T140816Z
UID:10022056-1800039600-1800039600@firstumcmuncy.org
SUMMARY:Narcotics Anonymous Meeting – Room 107
DESCRIPTION:
URL:https://firstumcmuncy.org/event/narcotics-anonymous-meeting-room-107-3/2027-01-15/
END:VEVENT
BEGIN:VEVENT
DTSTART;TZID=America/New_York:20270119T190000
DTEND;TZID=America/New_York:20270119T190000
DTSTAMP:20260422T175058
CREATED:20250306T103329Z
LAST-MODIFIED:20250731T140816Z
UID:10022057-1800385200-1800385200@firstumcmuncy.org
SUMMARY:Narcotics Anonymous Meeting – Room 107
DESCRIPTION:
URL:https://firstumcmuncy.org/event/narcotics-anonymous-meeting-room-107-3/2027-01-19/
END:VEVENT
BEGIN:VEVENT
DTSTART;TZID=America/New_York:20270122T190000
DTEND;TZID=America/New_York:20270122T190000
DTSTAMP:20260422T175058
CREATED:20250306T103329Z
LAST-MODIFIED:20250731T140816Z
UID:10022058-1800644400-1800644400@firstumcmuncy.org
SUMMARY:Narcotics Anonymous Meeting – Room 107
DESCRIPTION:
URL:https://firstumcmuncy.org/event/narcotics-anonymous-meeting-room-107-3/2027-01-22/
END:VEVENT
BEGIN:VEVENT
DTSTART;TZID=America/New_York:20270126T190000
DTEND;TZID=America/New_York:20270126T190000
DTSTAMP:20260422T175058
CREATED:20250306T103329Z
LAST-MODIFIED:20250731T140816Z
UID:10022059-1800990000-1800990000@firstumcmuncy.org
SUMMARY:Narcotics Anonymous Meeting – Room 107
DESCRIPTION:
URL:https://firstumcmuncy.org/event/narcotics-anonymous-meeting-room-107-3/2027-01-26/
END:VEVENT
END:VCALENDAR