BEGIN:VCALENDAR
VERSION:2.0
PRODID:-//Muncy First United Methodist - ECPv6.11.2//NONSGML v1.0//EN
CALSCALE:GREGORIAN
METHOD:PUBLISH
X-WR-CALNAME:Muncy First United Methodist
X-ORIGINAL-URL:https://firstumcmuncy.org
X-WR-CALDESC:Events for Muncy First United Methodist
REFRESH-INTERVAL;VALUE=DURATION:PT1H
X-Robots-Tag:noindex
X-PUBLISHED-TTL:PT1H
BEGIN:VTIMEZONE
TZID:America/New_York
BEGIN:DAYLIGHT
TZOFFSETFROM:-0500
TZOFFSETTO:-0400
TZNAME:EDT
DTSTART:20270314T070000
END:DAYLIGHT
BEGIN:STANDARD
TZOFFSETFROM:-0400
TZOFFSETTO:-0500
TZNAME:EST
DTSTART:20271107T060000
END:STANDARD
BEGIN:DAYLIGHT
TZOFFSETFROM:-0500
TZOFFSETTO:-0400
TZNAME:EDT
DTSTART:20280312T070000
END:DAYLIGHT
BEGIN:STANDARD
TZOFFSETFROM:-0400
TZOFFSETTO:-0500
TZNAME:EST
DTSTART:20281105T060000
END:STANDARD
END:VTIMEZONE
BEGIN:VEVENT
DTSTART;TZID=America/New_York:20270620T093000
DTEND;TZID=America/New_York:20270620T103000
DTSTAMP:20260422T071659
CREATED:20250730T153929Z
LAST-MODIFIED:20260203T103312Z
UID:10021168-1813483800-1813487400@firstumcmuncy.org
SUMMARY:Nursery Care Available in Room 102 ages 0 thru 4
DESCRIPTION:Nursery ages 0 thru 4
URL:https://firstumcmuncy.org/event/nursery-care-available-in-room-102/2027-06-20/
END:VEVENT
BEGIN:VEVENT
DTSTART;TZID=America/New_York:20270627T093000
DTEND;TZID=America/New_York:20270627T103000
DTSTAMP:20260422T071659
CREATED:20250730T153929Z
LAST-MODIFIED:20260203T103312Z
UID:10021169-1814088600-1814092200@firstumcmuncy.org
SUMMARY:Nursery Care Available in Room 102 ages 0 thru 4
DESCRIPTION:Nursery ages 0 thru 4
URL:https://firstumcmuncy.org/event/nursery-care-available-in-room-102/2027-06-27/
END:VEVENT
BEGIN:VEVENT
DTSTART;TZID=America/New_York:20270704T093000
DTEND;TZID=America/New_York:20270704T103000
DTSTAMP:20260422T071659
CREATED:20250730T153929Z
LAST-MODIFIED:20260203T103312Z
UID:10021170-1814693400-1814697000@firstumcmuncy.org
SUMMARY:Nursery Care Available in Room 102 ages 0 thru 4
DESCRIPTION:Nursery ages 0 thru 4
URL:https://firstumcmuncy.org/event/nursery-care-available-in-room-102/2027-07-04/
END:VEVENT
BEGIN:VEVENT
DTSTART;TZID=America/New_York:20270711T093000
DTEND;TZID=America/New_York:20270711T103000
DTSTAMP:20260422T071659
CREATED:20250730T153929Z
LAST-MODIFIED:20260203T103312Z
UID:10021171-1815298200-1815301800@firstumcmuncy.org
SUMMARY:Nursery Care Available in Room 102 ages 0 thru 4
DESCRIPTION:Nursery ages 0 thru 4
URL:https://firstumcmuncy.org/event/nursery-care-available-in-room-102/2027-07-11/
END:VEVENT
BEGIN:VEVENT
DTSTART;TZID=America/New_York:20270718T093000
DTEND;TZID=America/New_York:20270718T103000
DTSTAMP:20260422T071659
CREATED:20250730T153929Z
LAST-MODIFIED:20260203T103312Z
UID:10021172-1815903000-1815906600@firstumcmuncy.org
SUMMARY:Nursery Care Available in Room 102 ages 0 thru 4
DESCRIPTION:Nursery ages 0 thru 4
URL:https://firstumcmuncy.org/event/nursery-care-available-in-room-102/2027-07-18/
END:VEVENT
BEGIN:VEVENT
DTSTART;TZID=America/New_York:20270725T093000
DTEND;TZID=America/New_York:20270725T103000
DTSTAMP:20260422T071659
CREATED:20250730T153929Z
LAST-MODIFIED:20260203T103312Z
UID:10021173-1816507800-1816511400@firstumcmuncy.org
SUMMARY:Nursery Care Available in Room 102 ages 0 thru 4
DESCRIPTION:Nursery ages 0 thru 4
URL:https://firstumcmuncy.org/event/nursery-care-available-in-room-102/2027-07-25/
END:VEVENT
BEGIN:VEVENT
DTSTART;TZID=America/New_York:20270801T093000
DTEND;TZID=America/New_York:20270801T103000
DTSTAMP:20260422T071659
CREATED:20250730T153929Z
LAST-MODIFIED:20260203T103312Z
UID:10021174-1817112600-1817116200@firstumcmuncy.org
SUMMARY:Nursery Care Available in Room 102 ages 0 thru 4
DESCRIPTION:Nursery ages 0 thru 4
URL:https://firstumcmuncy.org/event/nursery-care-available-in-room-102/2027-08-01/
END:VEVENT
BEGIN:VEVENT
DTSTART;TZID=America/New_York:20270808T093000
DTEND;TZID=America/New_York:20270808T103000
DTSTAMP:20260422T071659
CREATED:20250730T153929Z
LAST-MODIFIED:20260203T103312Z
UID:10021175-1817717400-1817721000@firstumcmuncy.org
SUMMARY:Nursery Care Available in Room 102 ages 0 thru 4
DESCRIPTION:Nursery ages 0 thru 4
URL:https://firstumcmuncy.org/event/nursery-care-available-in-room-102/2027-08-08/
END:VEVENT
BEGIN:VEVENT
DTSTART;TZID=America/New_York:20270815T093000
DTEND;TZID=America/New_York:20270815T103000
DTSTAMP:20260422T071659
CREATED:20250730T153929Z
LAST-MODIFIED:20260203T103312Z
UID:10021176-1818322200-1818325800@firstumcmuncy.org
SUMMARY:Nursery Care Available in Room 102 ages 0 thru 4
DESCRIPTION:Nursery ages 0 thru 4
URL:https://firstumcmuncy.org/event/nursery-care-available-in-room-102/2027-08-15/
END:VEVENT
BEGIN:VEVENT
DTSTART;TZID=America/New_York:20270822T093000
DTEND;TZID=America/New_York:20270822T103000
DTSTAMP:20260422T071659
CREATED:20250730T153929Z
LAST-MODIFIED:20260203T103312Z
UID:10021177-1818927000-1818930600@firstumcmuncy.org
SUMMARY:Nursery Care Available in Room 102 ages 0 thru 4
DESCRIPTION:Nursery ages 0 thru 4
URL:https://firstumcmuncy.org/event/nursery-care-available-in-room-102/2027-08-22/
END:VEVENT
BEGIN:VEVENT
DTSTART;TZID=America/New_York:20270829T093000
DTEND;TZID=America/New_York:20270829T103000
DTSTAMP:20260422T071659
CREATED:20250730T153929Z
LAST-MODIFIED:20260203T103312Z
UID:10021178-1819531800-1819535400@firstumcmuncy.org
SUMMARY:Nursery Care Available in Room 102 ages 0 thru 4
DESCRIPTION:Nursery ages 0 thru 4
URL:https://firstumcmuncy.org/event/nursery-care-available-in-room-102/2027-08-29/
END:VEVENT
BEGIN:VEVENT
DTSTART;TZID=America/New_York:20270905T093000
DTEND;TZID=America/New_York:20270905T103000
DTSTAMP:20260422T071659
CREATED:20250730T153929Z
LAST-MODIFIED:20260203T103312Z
UID:10021179-1820136600-1820140200@firstumcmuncy.org
SUMMARY:Nursery Care Available in Room 102 ages 0 thru 4
DESCRIPTION:Nursery ages 0 thru 4
URL:https://firstumcmuncy.org/event/nursery-care-available-in-room-102/2027-09-05/
END:VEVENT
BEGIN:VEVENT
DTSTART;TZID=America/New_York:20270912T093000
DTEND;TZID=America/New_York:20270912T103000
DTSTAMP:20260422T071659
CREATED:20250730T153929Z
LAST-MODIFIED:20260203T103312Z
UID:10021180-1820741400-1820745000@firstumcmuncy.org
SUMMARY:Nursery Care Available in Room 102 ages 0 thru 4
DESCRIPTION:Nursery ages 0 thru 4
URL:https://firstumcmuncy.org/event/nursery-care-available-in-room-102/2027-09-12/
END:VEVENT
BEGIN:VEVENT
DTSTART;TZID=America/New_York:20270919T093000
DTEND;TZID=America/New_York:20270919T103000
DTSTAMP:20260422T071659
CREATED:20250730T153929Z
LAST-MODIFIED:20260203T103312Z
UID:10021181-1821346200-1821349800@firstumcmuncy.org
SUMMARY:Nursery Care Available in Room 102 ages 0 thru 4
DESCRIPTION:Nursery ages 0 thru 4
URL:https://firstumcmuncy.org/event/nursery-care-available-in-room-102/2027-09-19/
END:VEVENT
BEGIN:VEVENT
DTSTART;TZID=America/New_York:20270926T093000
DTEND;TZID=America/New_York:20270926T103000
DTSTAMP:20260422T071659
CREATED:20250730T153929Z
LAST-MODIFIED:20260203T103312Z
UID:10021182-1821951000-1821954600@firstumcmuncy.org
SUMMARY:Nursery Care Available in Room 102 ages 0 thru 4
DESCRIPTION:Nursery ages 0 thru 4
URL:https://firstumcmuncy.org/event/nursery-care-available-in-room-102/2027-09-26/
END:VEVENT
BEGIN:VEVENT
DTSTART;TZID=America/New_York:20271003T093000
DTEND;TZID=America/New_York:20271003T103000
DTSTAMP:20260422T071659
CREATED:20250730T153929Z
LAST-MODIFIED:20260203T103312Z
UID:10021183-1822555800-1822559400@firstumcmuncy.org
SUMMARY:Nursery Care Available in Room 102 ages 0 thru 4
DESCRIPTION:Nursery ages 0 thru 4
URL:https://firstumcmuncy.org/event/nursery-care-available-in-room-102/2027-10-03/
END:VEVENT
BEGIN:VEVENT
DTSTART;TZID=America/New_York:20271010T093000
DTEND;TZID=America/New_York:20271010T103000
DTSTAMP:20260422T071659
CREATED:20250730T153929Z
LAST-MODIFIED:20260203T103312Z
UID:10021184-1823160600-1823164200@firstumcmuncy.org
SUMMARY:Nursery Care Available in Room 102 ages 0 thru 4
DESCRIPTION:Nursery ages 0 thru 4
URL:https://firstumcmuncy.org/event/nursery-care-available-in-room-102/2027-10-10/
END:VEVENT
BEGIN:VEVENT
DTSTART;TZID=America/New_York:20271017T093000
DTEND;TZID=America/New_York:20271017T103000
DTSTAMP:20260422T071659
CREATED:20250730T153929Z
LAST-MODIFIED:20260203T103312Z
UID:10021185-1823765400-1823769000@firstumcmuncy.org
SUMMARY:Nursery Care Available in Room 102 ages 0 thru 4
DESCRIPTION:Nursery ages 0 thru 4
URL:https://firstumcmuncy.org/event/nursery-care-available-in-room-102/2027-10-17/
END:VEVENT
BEGIN:VEVENT
DTSTART;TZID=America/New_York:20271024T093000
DTEND;TZID=America/New_York:20271024T103000
DTSTAMP:20260422T071659
CREATED:20250730T153929Z
LAST-MODIFIED:20260203T103312Z
UID:10021186-1824370200-1824373800@firstumcmuncy.org
SUMMARY:Nursery Care Available in Room 102 ages 0 thru 4
DESCRIPTION:Nursery ages 0 thru 4
URL:https://firstumcmuncy.org/event/nursery-care-available-in-room-102/2027-10-24/
END:VEVENT
BEGIN:VEVENT
DTSTART;TZID=America/New_York:20271031T093000
DTEND;TZID=America/New_York:20271031T103000
DTSTAMP:20260422T071659
CREATED:20250730T153929Z
LAST-MODIFIED:20260203T103312Z
UID:10021187-1824975000-1824978600@firstumcmuncy.org
SUMMARY:Nursery Care Available in Room 102 ages 0 thru 4
DESCRIPTION:Nursery ages 0 thru 4
URL:https://firstumcmuncy.org/event/nursery-care-available-in-room-102/2027-10-31/
END:VEVENT
BEGIN:VEVENT
DTSTART;TZID=America/New_York:20271107T093000
DTEND;TZID=America/New_York:20271107T103000
DTSTAMP:20260422T071659
CREATED:20250730T153929Z
LAST-MODIFIED:20260203T103312Z
UID:10021188-1825579800-1825583400@firstumcmuncy.org
SUMMARY:Nursery Care Available in Room 102 ages 0 thru 4
DESCRIPTION:Nursery ages 0 thru 4
URL:https://firstumcmuncy.org/event/nursery-care-available-in-room-102/2027-11-07/
END:VEVENT
BEGIN:VEVENT
DTSTART;TZID=America/New_York:20271114T093000
DTEND;TZID=America/New_York:20271114T103000
DTSTAMP:20260422T071659
CREATED:20250730T153929Z
LAST-MODIFIED:20260203T103312Z
UID:10021189-1826184600-1826188200@firstumcmuncy.org
SUMMARY:Nursery Care Available in Room 102 ages 0 thru 4
DESCRIPTION:Nursery ages 0 thru 4
URL:https://firstumcmuncy.org/event/nursery-care-available-in-room-102/2027-11-14/
END:VEVENT
BEGIN:VEVENT
DTSTART;TZID=America/New_York:20271121T093000
DTEND;TZID=America/New_York:20271121T103000
DTSTAMP:20260422T071659
CREATED:20250730T153929Z
LAST-MODIFIED:20260203T103312Z
UID:10021190-1826789400-1826793000@firstumcmuncy.org
SUMMARY:Nursery Care Available in Room 102 ages 0 thru 4
DESCRIPTION:Nursery ages 0 thru 4
URL:https://firstumcmuncy.org/event/nursery-care-available-in-room-102/2027-11-21/
END:VEVENT
BEGIN:VEVENT
DTSTART;TZID=America/New_York:20271128T093000
DTEND;TZID=America/New_York:20271128T103000
DTSTAMP:20260422T071659
CREATED:20250730T153929Z
LAST-MODIFIED:20260203T103312Z
UID:10021191-1827394200-1827397800@firstumcmuncy.org
SUMMARY:Nursery Care Available in Room 102 ages 0 thru 4
DESCRIPTION:Nursery ages 0 thru 4
URL:https://firstumcmuncy.org/event/nursery-care-available-in-room-102/2027-11-28/
END:VEVENT
BEGIN:VEVENT
DTSTART;TZID=America/New_York:20271205T093000
DTEND;TZID=America/New_York:20271205T103000
DTSTAMP:20260422T071659
CREATED:20250730T153929Z
LAST-MODIFIED:20260203T103312Z
UID:10021192-1827999000-1828002600@firstumcmuncy.org
SUMMARY:Nursery Care Available in Room 102 ages 0 thru 4
DESCRIPTION:Nursery ages 0 thru 4
URL:https://firstumcmuncy.org/event/nursery-care-available-in-room-102/2027-12-05/
END:VEVENT
BEGIN:VEVENT
DTSTART;TZID=America/New_York:20271212T093000
DTEND;TZID=America/New_York:20271212T103000
DTSTAMP:20260422T071659
CREATED:20250730T153929Z
LAST-MODIFIED:20260203T103312Z
UID:10021193-1828603800-1828607400@firstumcmuncy.org
SUMMARY:Nursery Care Available in Room 102 ages 0 thru 4
DESCRIPTION:Nursery ages 0 thru 4
URL:https://firstumcmuncy.org/event/nursery-care-available-in-room-102/2027-12-12/
END:VEVENT
BEGIN:VEVENT
DTSTART;TZID=America/New_York:20271219T093000
DTEND;TZID=America/New_York:20271219T103000
DTSTAMP:20260422T071659
CREATED:20250730T153929Z
LAST-MODIFIED:20260203T103312Z
UID:10021194-1829208600-1829212200@firstumcmuncy.org
SUMMARY:Nursery Care Available in Room 102 ages 0 thru 4
DESCRIPTION:Nursery ages 0 thru 4
URL:https://firstumcmuncy.org/event/nursery-care-available-in-room-102/2027-12-19/
END:VEVENT
BEGIN:VEVENT
DTSTART;TZID=America/New_York:20271226T093000
DTEND;TZID=America/New_York:20271226T103000
DTSTAMP:20260422T071659
CREATED:20250730T153929Z
LAST-MODIFIED:20260203T103312Z
UID:10021195-1829813400-1829817000@firstumcmuncy.org
SUMMARY:Nursery Care Available in Room 102 ages 0 thru 4
DESCRIPTION:Nursery ages 0 thru 4
URL:https://firstumcmuncy.org/event/nursery-care-available-in-room-102/2027-12-26/
END:VEVENT
BEGIN:VEVENT
DTSTART;TZID=America/New_York:20280102T093000
DTEND;TZID=America/New_York:20280102T103000
DTSTAMP:20260422T071659
CREATED:20250730T153929Z
LAST-MODIFIED:20260203T103312Z
UID:10021196-1830418200-1830421800@firstumcmuncy.org
SUMMARY:Nursery Care Available in Room 102 ages 0 thru 4
DESCRIPTION:Nursery ages 0 thru 4
URL:https://firstumcmuncy.org/event/nursery-care-available-in-room-102/2028-01-02/
END:VEVENT
BEGIN:VEVENT
DTSTART;TZID=America/New_York:20280109T093000
DTEND;TZID=America/New_York:20280109T103000
DTSTAMP:20260422T071659
CREATED:20250730T153929Z
LAST-MODIFIED:20260203T103312Z
UID:10021197-1831023000-1831026600@firstumcmuncy.org
SUMMARY:Nursery Care Available in Room 102 ages 0 thru 4
DESCRIPTION:Nursery ages 0 thru 4
URL:https://firstumcmuncy.org/event/nursery-care-available-in-room-102/2028-01-09/
END:VEVENT
END:VCALENDAR